BEGIN:VCALENDAR
VERSION:2.0
PRODID:-//Town of Southey - ECPv6.1.3//NONSGML v1.0//EN
CALSCALE:GREGORIAN
METHOD:PUBLISH
X-WR-CALNAME:Town of Southey
X-ORIGINAL-URL:https://southey.osatoworks.com
X-WR-CALDESC:Events for Town of Southey
REFRESH-INTERVAL;VALUE=DURATION:PT1H
X-Robots-Tag:noindex
X-PUBLISHED-TTL:PT1H
BEGIN:VTIMEZONE
TZID:America/Regina
BEGIN:STANDARD
TZOFFSETFROM:-0600
TZOFFSETTO:-0600
TZNAME:CST
DTSTART:20160101T000000
END:STANDARD
END:VTIMEZONE
BEGIN:VEVENT
DTSTART;TZID=America/Regina:20160128T100000
DTEND;TZID=America/Regina:20160128T180000
DTSTAMP:20260419T085253
CREATED:20151229T143953Z
LAST-MODIFIED:20151229T143953Z
UID:1784-1453975200-1454004000@southey.osatoworks.com
SUMMARY:Physiotherapy Clinic
DESCRIPTION:Located at Southey Health Centre \nCall 306-531-3449 for an appointment\, you can also book online at pf-physio.genbook.com \nTo see what services provided see website at www.proformphysio.ca
URL:https://southey.osatoworks.com/event/physiotherapy-clinic-7/
CATEGORIES:Health Services,Rec Board Events/Community Calendar
END:VEVENT
END:VCALENDAR