BEGIN:VCALENDAR
VERSION:2.0
PRODID:-//Town of Southey - ECPv6.1.3//NONSGML v1.0//EN
CALSCALE:GREGORIAN
METHOD:PUBLISH
X-WR-CALNAME:Town of Southey
X-ORIGINAL-URL:https://southey.osatoworks.com
X-WR-CALDESC:Events for Town of Southey
REFRESH-INTERVAL;VALUE=DURATION:PT1H
X-Robots-Tag:noindex
X-PUBLISHED-TTL:PT1H
BEGIN:VTIMEZONE
TZID:America/Regina
BEGIN:STANDARD
TZOFFSETFROM:-0600
TZOFFSETTO:-0600
TZNAME:CST
DTSTART:20160101T000000
END:STANDARD
END:VTIMEZONE
BEGIN:VEVENT
DTSTART;TZID=America/Regina:20160306T130000
DTEND;TZID=America/Regina:20160306T160000
DTSTAMP:20260419T183400
CREATED:20160222T172640Z
LAST-MODIFIED:20160222T172640Z
UID:1865-1457269200-1457280000@southey.osatoworks.com
SUMMARY:Winter Carnival
DESCRIPTION:Be sure to dress warm and bring your skates!  We will sled\, then warm up by our bon fire glow.  The rec board will lend you snow shoes\, and enjoy a hotdog and hot chocolate.  The fun will begin at 1:00pm. \nThere will be silver collection for food and beverages to be donated to the Fire Department for the New Rescue Unit.
URL:https://southey.osatoworks.com/event/winter-carnival-2/
CATEGORIES:Rec Board Events/Community Calendar
END:VEVENT
END:VCALENDAR