BEGIN:VCALENDAR
VERSION:2.0
PRODID:-//Town of Southey - ECPv6.1.3//NONSGML v1.0//EN
CALSCALE:GREGORIAN
METHOD:PUBLISH
X-WR-CALNAME:Town of Southey
X-ORIGINAL-URL:https://southey.osatoworks.com
X-WR-CALDESC:Events for Town of Southey
REFRESH-INTERVAL;VALUE=DURATION:PT1H
X-Robots-Tag:noindex
X-PUBLISHED-TTL:PT1H
BEGIN:VTIMEZONE
TZID:America/Regina
BEGIN:STANDARD
TZOFFSETFROM:-0600
TZOFFSETTO:-0600
TZNAME:CST
DTSTART:20160101T000000
END:STANDARD
END:VTIMEZONE
BEGIN:VEVENT
DTSTART;TZID=America/Regina:20160322T093000
DTEND;TZID=America/Regina:20160322T150000
DTSTAMP:20260419T230412
CREATED:20160302T151412Z
LAST-MODIFIED:20160302T151412Z
UID:1872-1458639000-1458658800@southey.osatoworks.com
SUMMARY:Nurse Practitioner Clinic
DESCRIPTION:To book an appointment please call 1-855-766-6399
URL:https://southey.osatoworks.com/event/nurse-practitioner-clinic-4/
CATEGORIES:Health Services,Rec Board Events/Community Calendar
END:VEVENT
END:VCALENDAR