BEGIN:VCALENDAR
VERSION:2.0
PRODID:-//Town of Southey - ECPv6.1.3//NONSGML v1.0//EN
CALSCALE:GREGORIAN
METHOD:PUBLISH
X-WR-CALNAME:Town of Southey
X-ORIGINAL-URL:https://southey.osatoworks.com
X-WR-CALDESC:Events for Town of Southey
REFRESH-INTERVAL;VALUE=DURATION:PT1H
X-Robots-Tag:noindex
X-PUBLISHED-TTL:PT1H
BEGIN:VTIMEZONE
TZID:America/Regina
BEGIN:STANDARD
TZOFFSETFROM:-0600
TZOFFSETTO:-0600
TZNAME:CST
DTSTART:20160101T000000
END:STANDARD
END:VTIMEZONE
BEGIN:VEVENT
DTSTART;TZID=America/Regina:20160514T080000
DTEND;TZID=America/Regina:20160514T160000
DTSTAMP:20260419T213124
CREATED:20160504T142730Z
LAST-MODIFIED:20160504T142730Z
UID:1974-1463212800-1463241600@southey.osatoworks.com
SUMMARY:Community Garage Sale Day
DESCRIPTION:There will be numerous garage sales around town and maps will be available May 10 at the Town Office.  Pancake Breakfast at the Curling Rink from 7:30am to 10:30am ($5/plate).  Lunch and bake sale available at St.James Church\, Preschool will be having a bake sale and hotdog sale on Keats Street next to Southey Drugs\, United Church will also have a huge sale!  Lioness will be having their annual purse sale at the Seniors Centre.
URL:https://southey.osatoworks.com/event/community-garage-sale-day/
CATEGORIES:Rec Board Events/Community Calendar
END:VEVENT
END:VCALENDAR