BEGIN:VCALENDAR
VERSION:2.0
PRODID:-//Town of Southey - ECPv6.1.3//NONSGML v1.0//EN
CALSCALE:GREGORIAN
METHOD:PUBLISH
X-ORIGINAL-URL:https://southey.osatoworks.com
X-WR-CALDESC:Events for Town of Southey
REFRESH-INTERVAL;VALUE=DURATION:PT1H
X-Robots-Tag:noindex
X-PUBLISHED-TTL:PT1H
BEGIN:VTIMEZONE
TZID:America/Regina
BEGIN:STANDARD
TZOFFSETFROM:-0600
TZOFFSETTO:-0600
TZNAME:CST
DTSTART:20160101T000000
END:STANDARD
END:VTIMEZONE
BEGIN:VEVENT
DTSTART;TZID=America/Regina:20160522T130000
DTEND;TZID=America/Regina:20160522T200000
DTSTAMP:20260420T013407
CREATED:20160425T170956Z
LAST-MODIFIED:20160425T171009Z
UID:1951-1463922000-1463947200@southey.osatoworks.com
SUMMARY:Mosquito Game
DESCRIPTION:Diamond 1
URL:https://southey.osatoworks.com/event/mosquito-game-3/
CATEGORIES:Southey Minor Ball
END:VEVENT
END:VCALENDAR