BEGIN:VCALENDAR
VERSION:2.0
PRODID:-//Town of Southey - ECPv6.1.3//NONSGML v1.0//EN
CALSCALE:GREGORIAN
METHOD:PUBLISH
X-WR-CALNAME:Town of Southey
X-ORIGINAL-URL:https://southey.osatoworks.com
X-WR-CALDESC:Events for Town of Southey
REFRESH-INTERVAL;VALUE=DURATION:PT1H
X-Robots-Tag:noindex
X-PUBLISHED-TTL:PT1H
BEGIN:VTIMEZONE
TZID:America/Regina
BEGIN:STANDARD
TZOFFSETFROM:-0600
TZOFFSETTO:-0600
TZNAME:CST
DTSTART:20160101T000000
END:STANDARD
END:VTIMEZONE
BEGIN:VEVENT
DTSTART;TZID=America/Regina:20160527T073000
DTEND;TZID=America/Regina:20160527T100000
DTSTAMP:20260419T230414
CREATED:20160520T145542Z
LAST-MODIFIED:20160520T145542Z
UID:2000-1464334200-1464343200@southey.osatoworks.com
SUMMARY:Lab Services
DESCRIPTION:Lab services at Southey Health Centre
URL:https://southey.osatoworks.com/event/lab-services/
CATEGORIES:Health Services
END:VEVENT
BEGIN:VEVENT
DTSTART;TZID=America/Regina:20160527T093000
DTEND;TZID=America/Regina:20160527T150000
DTSTAMP:20260419T230414
CREATED:20160504T140819Z
LAST-MODIFIED:20160504T140819Z
UID:1967-1464341400-1464361200@southey.osatoworks.com
SUMMARY:Nurse Practitioner
DESCRIPTION:To book an appointment with the Nurse Practitioner please call 1-855-766-6399
URL:https://southey.osatoworks.com/event/nurse-practitioner-132/
CATEGORIES:Health Services,Rec Board Events/Community Calendar
END:VEVENT
BEGIN:VEVENT
DTSTART;TZID=America/Regina:20160527T180000
DTEND;TZID=America/Regina:20160527T210000
DTSTAMP:20260419T230414
CREATED:20160525T171513Z
LAST-MODIFIED:20160526T151204Z
UID:2022-1464372000-1464382800@southey.osatoworks.com
SUMMARY:Six pack Game
DESCRIPTION:Diamond 1
URL:https://southey.osatoworks.com/event/six-pack-game-8/
CATEGORIES:Southey Minor Ball
END:VEVENT
BEGIN:VEVENT
DTSTART;TZID=America/Regina:20160527T183000
DTEND;TZID=America/Regina:20160527T213000
DTSTAMP:20260419T230414
CREATED:20160526T205500Z
LAST-MODIFIED:20160526T205500Z
UID:2023-1464373800-1464384600@southey.osatoworks.com
SUMMARY:U12 Girls Practice
DESCRIPTION:Diamond 2
URL:https://southey.osatoworks.com/event/u12-girls-practice/
CATEGORIES:Southey Minor Ball
END:VEVENT
END:VCALENDAR