BEGIN:VCALENDAR
VERSION:2.0
PRODID:-//Town of Southey - ECPv6.1.3//NONSGML v1.0//EN
CALSCALE:GREGORIAN
METHOD:PUBLISH
X-ORIGINAL-URL:https://southey.osatoworks.com
X-WR-CALDESC:Events for Town of Southey
REFRESH-INTERVAL;VALUE=DURATION:PT1H
X-Robots-Tag:noindex
X-PUBLISHED-TTL:PT1H
BEGIN:VTIMEZONE
TZID:America/Regina
BEGIN:STANDARD
TZOFFSETFROM:-0600
TZOFFSETTO:-0600
TZNAME:CST
DTSTART:20160101T000000
END:STANDARD
END:VTIMEZONE
BEGIN:VEVENT
DTSTART;TZID=America/Regina:20160528T100000
DTEND;TZID=America/Regina:20160528T150000
DTSTAMP:20260420T013410
CREATED:20160518T203233Z
LAST-MODIFIED:20160518T203233Z
UID:1989-1464429600-1464447600@southey.osatoworks.com
SUMMARY:Soccer Grill Rental
DESCRIPTION:
URL:https://southey.osatoworks.com/event/soccer-grill-rental-2/
CATEGORIES:Lions Grill Rental
END:VEVENT
BEGIN:VEVENT
DTSTART;TZID=America/Regina:20160528T200000
DTEND;TZID=America/Regina:20160528T220000
DTSTAMP:20260420T013410
CREATED:20160504T161421Z
LAST-MODIFIED:20160504T161421Z
UID:1975-1464465600-1464472800@southey.osatoworks.com
SUMMARY:Paint Nite
DESCRIPTION:Grab a few friends and join us to create work of art and enjoy a few beverages.  We are hosting a Ladies Night Paint Nite to help raise funds to revitalize the Southey Seniors Centre.  A cash bar and snack on us will be available.  Must be 19 years old to attend.  To register go to www.paintnite.com/events/1061581.html. \n 
URL:https://southey.osatoworks.com/event/paint-nite/
CATEGORIES:Rec Board Events/Community Calendar
END:VEVENT
END:VCALENDAR