BEGIN:VCALENDAR
VERSION:2.0
PRODID:-//Town of Southey - ECPv6.1.3//NONSGML v1.0//EN
CALSCALE:GREGORIAN
METHOD:PUBLISH
X-WR-CALNAME:Town of Southey
X-ORIGINAL-URL:https://southey.osatoworks.com
X-WR-CALDESC:Events for Town of Southey
REFRESH-INTERVAL;VALUE=DURATION:PT1H
X-Robots-Tag:noindex
X-PUBLISHED-TTL:PT1H
BEGIN:VTIMEZONE
TZID:America/Regina
BEGIN:STANDARD
TZOFFSETFROM:-0600
TZOFFSETTO:-0600
TZNAME:CST
DTSTART:20160101T000000
END:STANDARD
END:VTIMEZONE
BEGIN:VEVENT
DTSTART;TZID=America/Regina:20160601T093000
DTEND;TZID=America/Regina:20160601T160000
DTSTAMP:20260419T213126
CREATED:20160524T152754Z
LAST-MODIFIED:20160524T152754Z
UID:2017-1464773400-1464796800@southey.osatoworks.com
SUMMARY:Massage Therapist
DESCRIPTION:To book an appointment with Sherri Sentes please call 306-539-4663.  Cash or Cheque only
URL:https://southey.osatoworks.com/event/massage-therapist-36/
CATEGORIES:Health Services,Rec Board Events/Community Calendar
END:VEVENT
BEGIN:VEVENT
DTSTART;TZID=America/Regina:20160601T174500
DTEND;TZID=America/Regina:20160601T203000
DTSTAMP:20260419T213126
CREATED:20160422T142515Z
LAST-MODIFIED:20160422T142515Z
UID:1938-1464803100-1464813000@southey.osatoworks.com
SUMMARY:Pee Wee
DESCRIPTION:Diamond 1
URL:https://southey.osatoworks.com/event/pee-wee-9/
CATEGORIES:Southey Minor Ball
END:VEVENT
END:VCALENDAR