BEGIN:VCALENDAR
VERSION:2.0
PRODID:-//Town of Southey - ECPv6.1.3//NONSGML v1.0//EN
CALSCALE:GREGORIAN
METHOD:PUBLISH
X-WR-CALNAME:Town of Southey
X-ORIGINAL-URL:https://southey.osatoworks.com
X-WR-CALDESC:Events for Town of Southey
REFRESH-INTERVAL;VALUE=DURATION:PT1H
X-Robots-Tag:noindex
X-PUBLISHED-TTL:PT1H
BEGIN:VTIMEZONE
TZID:America/Regina
BEGIN:STANDARD
TZOFFSETFROM:-0600
TZOFFSETTO:-0600
TZNAME:CST
DTSTART:20160101T000000
END:STANDARD
END:VTIMEZONE
BEGIN:VEVENT
DTSTART;TZID=America/Regina:20160615T093000
DTEND;TZID=America/Regina:20160615T160000
DTSTAMP:20260420T025857
CREATED:20160524T152846Z
LAST-MODIFIED:20160524T152846Z
UID:2019-1465983000-1466006400@southey.osatoworks.com
SUMMARY:Massage Therapist
DESCRIPTION:To book an appointment with Sherri Sentes please call 306-539-4663.  Cash or Cheque only
URL:https://southey.osatoworks.com/event/massage-therapist-38/
CATEGORIES:Health Services,Rec Board Events/Community Calendar
END:VEVENT
BEGIN:VEVENT
DTSTART;TZID=America/Regina:20160615T180000
DTEND;TZID=America/Regina:20160615T200000
DTSTAMP:20260420T025857
CREATED:20160425T171215Z
LAST-MODIFIED:20160425T171215Z
UID:1955-1466013600-1466020800@southey.osatoworks.com
SUMMARY:Mosquito Game
DESCRIPTION:Diamond 1
URL:https://southey.osatoworks.com/event/mosquito-game-7/
CATEGORIES:Southey Minor Ball
END:VEVENT
END:VCALENDAR