BEGIN:VCALENDAR
VERSION:2.0
PRODID:-//Town of Southey - ECPv6.1.3//NONSGML v1.0//EN
CALSCALE:GREGORIAN
METHOD:PUBLISH
X-WR-CALNAME:Town of Southey
X-ORIGINAL-URL:https://southey.osatoworks.com
X-WR-CALDESC:Events for Town of Southey
REFRESH-INTERVAL;VALUE=DURATION:PT1H
X-Robots-Tag:noindex
X-PUBLISHED-TTL:PT1H
BEGIN:VTIMEZONE
TZID:America/Regina
BEGIN:STANDARD
TZOFFSETFROM:-0600
TZOFFSETTO:-0600
TZNAME:CST
DTSTART:20160101T000000
END:STANDARD
END:VTIMEZONE
BEGIN:VEVENT
DTSTART;TZID=America/Regina:20160621T093000
DTEND;TZID=America/Regina:20160621T150000
DTSTAMP:20260420T013426
CREATED:20160520T151248Z
LAST-MODIFIED:20160520T151248Z
UID:2011-1466501400-1466521200@southey.osatoworks.com
SUMMARY:Nurse Practitioner
DESCRIPTION:To book an appointment with Leland please call 1-855-766-6399
URL:https://southey.osatoworks.com/event/nurse-practitioner-138/
CATEGORIES:Health Services,Rec Board Events/Community Calendar
END:VEVENT
BEGIN:VEVENT
DTSTART;TZID=America/Regina:20160621T180000
DTEND;TZID=America/Regina:20160621T200000
DTSTAMP:20260420T013426
CREATED:20160609T152613Z
LAST-MODIFIED:20160609T152613Z
UID:2034-1466532000-1466539200@southey.osatoworks.com
SUMMARY:Mosquito Practice
DESCRIPTION:Diamond 1
URL:https://southey.osatoworks.com/event/mosquito-practice-4/
CATEGORIES:Southey Minor Ball
END:VEVENT
END:VCALENDAR