BEGIN:VCALENDAR
VERSION:2.0
PRODID:-//Town of Southey - ECPv6.1.3//NONSGML v1.0//EN
CALSCALE:GREGORIAN
METHOD:PUBLISH
X-WR-CALNAME:Town of Southey
X-ORIGINAL-URL:https://southey.osatoworks.com
X-WR-CALDESC:Events for Town of Southey
REFRESH-INTERVAL;VALUE=DURATION:PT1H
X-Robots-Tag:noindex
X-PUBLISHED-TTL:PT1H
BEGIN:VTIMEZONE
TZID:America/Regina
BEGIN:STANDARD
TZOFFSETFROM:-0600
TZOFFSETTO:-0600
TZNAME:CST
DTSTART:20160101T000000
END:STANDARD
END:VTIMEZONE
BEGIN:VEVENT
DTSTART;TZID=America/Regina:20160624T073000
DTEND;TZID=America/Regina:20160624T100000
DTSTAMP:20260420T013424
CREATED:20160520T150327Z
LAST-MODIFIED:20160520T150327Z
UID:2005-1466753400-1466762400@southey.osatoworks.com
SUMMARY:Lab Services
DESCRIPTION:Lab Services at Southey Health Centre-Walk in only
URL:https://southey.osatoworks.com/event/lab-services-6/
CATEGORIES:Health Services,Rec Board Events/Community Calendar
END:VEVENT
BEGIN:VEVENT
DTSTART;TZID=America/Regina:20160624T093000
DTEND;TZID=America/Regina:20160624T150000
DTSTAMP:20260420T013424
CREATED:20160520T151319Z
LAST-MODIFIED:20160520T151319Z
UID:2012-1466760600-1466780400@southey.osatoworks.com
SUMMARY:Nurse Practitioner
DESCRIPTION:To book an appointment with Leland please call 1-855-766-6399
URL:https://southey.osatoworks.com/event/nurse-practitioner-139/
CATEGORIES:Health Services,Rec Board Events/Community Calendar
END:VEVENT
END:VCALENDAR