BEGIN:VCALENDAR
VERSION:2.0
PRODID:-//Town of Southey - ECPv6.1.3//NONSGML v1.0//EN
CALSCALE:GREGORIAN
METHOD:PUBLISH
X-WR-CALNAME:Town of Southey
X-ORIGINAL-URL:https://southey.osatoworks.com
X-WR-CALDESC:Events for Town of Southey
REFRESH-INTERVAL;VALUE=DURATION:PT1H
X-Robots-Tag:noindex
X-PUBLISHED-TTL:PT1H
BEGIN:VTIMEZONE
TZID:America/Regina
BEGIN:STANDARD
TZOFFSETFROM:-0600
TZOFFSETTO:-0600
TZNAME:CST
DTSTART:20160101T000000
END:STANDARD
END:VTIMEZONE
BEGIN:VEVENT
DTSTART;VALUE=DATE:20160625
DTEND;VALUE=DATE:20160626
DTSTAMP:20260420T013424
CREATED:20160518T203625Z
LAST-MODIFIED:20160518T203625Z
UID:1994-1466812800-1466899199@southey.osatoworks.com
SUMMARY:Lions Grill Rental
DESCRIPTION:Lunch Ride for Sight
URL:https://southey.osatoworks.com/event/lions-grill-rental/
CATEGORIES:Lions Grill Rental
END:VEVENT
END:VCALENDAR