BEGIN:VCALENDAR
VERSION:2.0
PRODID:-//Town of Southey - ECPv6.1.3//NONSGML v1.0//EN
CALSCALE:GREGORIAN
METHOD:PUBLISH
X-WR-CALNAME:Town of Southey
X-ORIGINAL-URL:https://southey.osatoworks.com
X-WR-CALDESC:Events for Town of Southey
REFRESH-INTERVAL;VALUE=DURATION:PT1H
X-Robots-Tag:noindex
X-PUBLISHED-TTL:PT1H
BEGIN:VTIMEZONE
TZID:America/Regina
BEGIN:STANDARD
TZOFFSETFROM:-0600
TZOFFSETTO:-0600
TZNAME:CST
DTSTART:20160101T000000
END:STANDARD
END:VTIMEZONE
BEGIN:VEVENT
DTSTART;VALUE=DATE:20160701
DTEND;VALUE=DATE:20160702
DTSTAMP:20260420T013425
CREATED:20160518T203723Z
LAST-MODIFIED:20160518T203723Z
UID:1995-1467331200-1467417599@southey.osatoworks.com
SUMMARY:Grill/chairs/table Rental
DESCRIPTION:Town of Southey July 1st Celebration
URL:https://southey.osatoworks.com/event/grillchairstable-rental/
CATEGORIES:Lions Grill Rental
END:VEVENT
BEGIN:VEVENT
DTSTART;TZID=America/Regina:20160701T113000
DTEND;TZID=America/Regina:20160701T133000
DTSTAMP:20260420T013425
CREATED:20160623T202654Z
LAST-MODIFIED:20160623T202654Z
UID:2046-1467372600-1467379800@southey.osatoworks.com
SUMMARY:Canada Day Celebration
DESCRIPTION:Come down to the Fire Hall on July 1 between 11:30-1:30pm to celebrate Canada Day with the Town.  We will have burgers\, hotdogs\, pop\, juice and cake for free to Celebrate.
URL:https://southey.osatoworks.com/event/canada-day-celebration-2/
CATEGORIES:Rec Board Events/Community Calendar
END:VEVENT
END:VCALENDAR