BEGIN:VCALENDAR
VERSION:2.0
PRODID:-//Town of Southey - ECPv6.1.3//NONSGML v1.0//EN
CALSCALE:GREGORIAN
METHOD:PUBLISH
X-WR-CALNAME:Town of Southey
X-ORIGINAL-URL:https://southey.osatoworks.com
X-WR-CALDESC:Events for Town of Southey
REFRESH-INTERVAL;VALUE=DURATION:PT1H
X-Robots-Tag:noindex
X-PUBLISHED-TTL:PT1H
BEGIN:VTIMEZONE
TZID:America/Regina
BEGIN:STANDARD
TZOFFSETFROM:-0600
TZOFFSETTO:-0600
TZNAME:CST
DTSTART:20160101T000000
END:STANDARD
END:VTIMEZONE
BEGIN:VEVENT
DTSTART;VALUE=DATE:20160901
DTEND;VALUE=DATE:20160902
DTSTAMP:20260420T052930
CREATED:20160826T153000Z
LAST-MODIFIED:20160826T153000Z
UID:2095-1472688000-1472774399@southey.osatoworks.com
SUMMARY:Call for Nominations
DESCRIPTION:
URL:https://southey.osatoworks.com/event/call-for-nominations/
CATEGORIES:Rec Board Events/Community Calendar
END:VEVENT
BEGIN:VEVENT
DTSTART;TZID=America/Regina:20160901T073000
DTEND;TZID=America/Regina:20160901T203000
DTSTAMP:20260420T052930
CREATED:20160826T153038Z
LAST-MODIFIED:20160826T153038Z
UID:2097-1472715000-1472761800@southey.osatoworks.com
SUMMARY:Fire Dept Meeting
DESCRIPTION:Fire Dept Meeting.  at the fire department
URL:https://southey.osatoworks.com/event/fire-dept-meeting-11/
CATEGORIES:Rec Board Events/Community Calendar
END:VEVENT
END:VCALENDAR