BEGIN:VCALENDAR
VERSION:2.0
PRODID:-//Town of Southey - ECPv6.1.3//NONSGML v1.0//EN
CALSCALE:GREGORIAN
METHOD:PUBLISH
X-ORIGINAL-URL:https://southey.osatoworks.com
X-WR-CALDESC:Events for Town of Southey
REFRESH-INTERVAL;VALUE=DURATION:PT1H
X-Robots-Tag:noindex
X-PUBLISHED-TTL:PT1H
BEGIN:VTIMEZONE
TZID:America/Regina
BEGIN:STANDARD
TZOFFSETFROM:-0600
TZOFFSETTO:-0600
TZNAME:CST
DTSTART:20160101T000000
END:STANDARD
END:VTIMEZONE
BEGIN:VEVENT
DTSTART;VALUE=DATE:20160910
DTEND;VALUE=DATE:20160911
DTSTAMP:20260420T064420
CREATED:20160518T204004Z
LAST-MODIFIED:20160518T204004Z
UID:1998-1473465600-1473551999@southey.osatoworks.com
SUMMARY:Grill Rental
DESCRIPTION:Town of Southey Fallfest breakfast
URL:https://southey.osatoworks.com/event/grill-rental-3/
CATEGORIES:Lions Grill Rental
END:VEVENT
BEGIN:VEVENT
DTSTART;VALUE=DATE:20160910
DTEND;VALUE=DATE:20160911
DTSTAMP:20260420T064420
CREATED:20160826T154656Z
LAST-MODIFIED:20160826T154656Z
UID:2128-1473465600-1473551999@southey.osatoworks.com
SUMMARY:Fall Fest
DESCRIPTION:
URL:https://southey.osatoworks.com/event/fall-fest-2/
CATEGORIES:Rec Board Events/Community Calendar
END:VEVENT
END:VCALENDAR