BEGIN:VCALENDAR
VERSION:2.0
PRODID:-//Town of Southey - ECPv6.1.3//NONSGML v1.0//EN
CALSCALE:GREGORIAN
METHOD:PUBLISH
X-ORIGINAL-URL:https://southey.osatoworks.com
X-WR-CALDESC:Events for Town of Southey
REFRESH-INTERVAL;VALUE=DURATION:PT1H
X-Robots-Tag:noindex
X-PUBLISHED-TTL:PT1H
BEGIN:VTIMEZONE
TZID:America/Regina
BEGIN:STANDARD
TZOFFSETFROM:-0600
TZOFFSETTO:-0600
TZNAME:CST
DTSTART:20160101T000000
END:STANDARD
END:VTIMEZONE
BEGIN:VEVENT
DTSTART;TZID=America/Regina:20160930T073000
DTEND;TZID=America/Regina:20160930T100000
DTSTAMP:20260420T064421
CREATED:20160826T153510Z
LAST-MODIFIED:20160826T153510Z
UID:2111-1475220600-1475229600@southey.osatoworks.com
SUMMARY:Lab Services
DESCRIPTION:Please have your requisition and Health card.  Walk ins only.
URL:https://southey.osatoworks.com/event/lab-services-16/
CATEGORIES:Health Services,Rec Board Events/Community Calendar
END:VEVENT
BEGIN:VEVENT
DTSTART;TZID=America/Regina:20160930T093000
DTEND;TZID=America/Regina:20160930T150000
DTSTAMP:20260420T064421
CREATED:20160920T173230Z
LAST-MODIFIED:20160920T173230Z
UID:2148-1475227800-1475247600@southey.osatoworks.com
SUMMARY:Nurse Practitioner
DESCRIPTION:To book an appointment with the Nurse Practitioner please call 1-855-766-6399
URL:https://southey.osatoworks.com/event/nurse-practitioner-157/
CATEGORIES:Health Services,Rec Board Events/Community Calendar
END:VEVENT
END:VCALENDAR