BEGIN:VCALENDAR
VERSION:2.0
PRODID:-//Town of Southey - ECPv6.1.3//NONSGML v1.0//EN
CALSCALE:GREGORIAN
METHOD:PUBLISH
X-ORIGINAL-URL:https://southey.osatoworks.com
X-WR-CALDESC:Events for Town of Southey
REFRESH-INTERVAL;VALUE=DURATION:PT1H
X-Robots-Tag:noindex
X-PUBLISHED-TTL:PT1H
BEGIN:VTIMEZONE
TZID:America/Regina
BEGIN:STANDARD
TZOFFSETFROM:-0600
TZOFFSETTO:-0600
TZNAME:CST
DTSTART:20160101T000000
END:STANDARD
END:VTIMEZONE
BEGIN:VEVENT
DTSTART;TZID=America/Regina:20161013T053000
DTEND;TZID=America/Regina:20161013T210000
DTSTAMP:20260420T080423
CREATED:20160929T205706Z
LAST-MODIFIED:20160929T205706Z
UID:2192-1476336600-1476392400@southey.osatoworks.com
SUMMARY:Community Supper Meeting
DESCRIPTION:The Southey Primary Health Branch need your help.  Please join them for a community supper meeting for residents and rural area.  They will be reviewing information collected during a community meeting held in October 2015 and info from the community suvery from May 2016 to develop goals and action plan for community. Supper and meeting will be at Southey Memorial Hall \nPlease RSVP to Cara Wihlidal by October 10 at 306-726-2122 or email wihlidal@sasktel.net \n 
URL:https://southey.osatoworks.com/event/community-supper-meeting/
CATEGORIES:Health Services,Rec Board Events/Community Calendar
END:VEVENT
END:VCALENDAR