BEGIN:VCALENDAR
VERSION:2.0
PRODID:-//Town of Southey - ECPv6.1.3//NONSGML v1.0//EN
CALSCALE:GREGORIAN
METHOD:PUBLISH
X-ORIGINAL-URL:https://southey.osatoworks.com
X-WR-CALDESC:Events for Town of Southey
REFRESH-INTERVAL;VALUE=DURATION:PT1H
X-Robots-Tag:noindex
X-PUBLISHED-TTL:PT1H
BEGIN:VTIMEZONE
TZID:America/Regina
BEGIN:STANDARD
TZOFFSETFROM:-0600
TZOFFSETTO:-0600
TZNAME:CST
DTSTART:20160101T000000
END:STANDARD
END:VTIMEZONE
BEGIN:VEVENT
DTSTART;TZID=America/Regina:20161021T073000
DTEND;TZID=America/Regina:20161021T100000
DTSTAMP:20260420T080125
CREATED:20160929T205201Z
LAST-MODIFIED:20160929T205201Z
UID:2186-1477035000-1477044000@southey.osatoworks.com
SUMMARY:Lab Services
DESCRIPTION:Drop in only.  Please have health card and requisition form
URL:https://southey.osatoworks.com/event/lab-services-19/
CATEGORIES:Health Services,Rec Board Events/Community Calendar
END:VEVENT
BEGIN:VEVENT
DTSTART;TZID=America/Regina:20161021T093000
DTEND;TZID=America/Regina:20161021T150000
DTSTAMP:20260420T080125
CREATED:20160929T204149Z
LAST-MODIFIED:20160929T204149Z
UID:2176-1477042200-1477062000@southey.osatoworks.com
SUMMARY:No Nurse Practitioner
DESCRIPTION:
URL:https://southey.osatoworks.com/event/no-nurse-practitioner-5/
CATEGORIES:Health Services,Rec Board Events/Community Calendar
END:VEVENT
END:VCALENDAR