BEGIN:VCALENDAR
VERSION:2.0
PRODID:-//Town of Southey - ECPv6.1.3//NONSGML v1.0//EN
CALSCALE:GREGORIAN
METHOD:PUBLISH
X-WR-CALNAME:Town of Southey
X-ORIGINAL-URL:https://southey.osatoworks.com
X-WR-CALDESC:Events for Town of Southey
REFRESH-INTERVAL;VALUE=DURATION:PT1H
X-Robots-Tag:noindex
X-PUBLISHED-TTL:PT1H
BEGIN:VTIMEZONE
TZID:America/Regina
BEGIN:STANDARD
TZOFFSETFROM:-0600
TZOFFSETTO:-0600
TZNAME:CST
DTSTART:20160101T000000
END:STANDARD
END:VTIMEZONE
BEGIN:VEVENT
DTSTART;TZID=America/Regina:20161022T140000
DTEND;TZID=America/Regina:20161022T170000
DTSTAMP:20260420T080409
CREATED:20160929T213032Z
LAST-MODIFIED:20160929T213032Z
UID:2204-1477144800-1477155600@southey.osatoworks.com
SUMMARY:Princess Tea Party
DESCRIPTION:We welcome all princesses\, age 3 to 103!  A variety of activities including: \nThe Queens Photo Booth\, charming movie screen\, mini princess manis and pedis\, Regal Craft Room and Royal Face painting.  There will be a variety of sweets and refreshments available! \nEmmanuel Lutheran Church
URL:https://southey.osatoworks.com/event/princess-tea-party/
CATEGORIES:Rec Board Events/Community Calendar
END:VEVENT
BEGIN:VEVENT
DTSTART;TZID=America/Regina:20161022T180000
DTEND;TZID=America/Regina:20161022T203000
DTSTAMP:20260420T080409
CREATED:20161019T212426Z
LAST-MODIFIED:20161019T212426Z
UID:2214-1477159200-1477168200@southey.osatoworks.com
SUMMARY:Yancoal Fall Supper
DESCRIPTION:Yancoal Canada would like to invite you to have supper with us\, we want to show our appreciation to all of you and to recognize what a great community you have. \nAll proceeds from the event (ex. 50/50 draw) will be donated.  At the event we will let attendees decide what worthy local causes will receive the money raised. \nWhere: Earl Grey Community Hall \nCost: Free/by donation \nMenu \nStarter: Mushroom soup and buns\, pickles and cheese \nMain: Roast Pork Loin in Jus’ with apple sauce \nSides:Baked Potatoes\, rice with mixed veggies \nDesserts: Pumpkin\, Apple or Vanilla custard tarts
URL:https://southey.osatoworks.com/event/yancoal-fall-supper/
CATEGORIES:Rec Board Events/Community Calendar
END:VEVENT
END:VCALENDAR