BEGIN:VCALENDAR
VERSION:2.0
PRODID:-//Town of Southey - ECPv6.1.3//NONSGML v1.0//EN
CALSCALE:GREGORIAN
METHOD:PUBLISH
X-ORIGINAL-URL:https://southey.osatoworks.com
X-WR-CALDESC:Events for Town of Southey
REFRESH-INTERVAL;VALUE=DURATION:PT1H
X-Robots-Tag:noindex
X-PUBLISHED-TTL:PT1H
BEGIN:VTIMEZONE
TZID:America/Regina
BEGIN:STANDARD
TZOFFSETFROM:-0600
TZOFFSETTO:-0600
TZNAME:CST
DTSTART:20160101T000000
END:STANDARD
END:VTIMEZONE
BEGIN:VEVENT
DTSTART;TZID=America/Regina:20161127T130000
DTEND;TZID=America/Regina:20161127T150000
DTSTAMP:20260420T092430
CREATED:20161102T161005Z
LAST-MODIFIED:20161102T161005Z
UID:2238-1480251600-1480258800@southey.osatoworks.com
SUMMARY:Public Skate
DESCRIPTION:1:00pm to 3:00pm
URL:https://southey.osatoworks.com/event/public-skate-4/
CATEGORIES:Rec Board Events/Community Calendar
END:VEVENT
END:VCALENDAR