BEGIN:VCALENDAR
VERSION:2.0
PRODID:-//Town of Southey - ECPv6.1.3//NONSGML v1.0//EN
CALSCALE:GREGORIAN
METHOD:PUBLISH
X-ORIGINAL-URL:https://southey.osatoworks.com
X-WR-CALDESC:Events for Town of Southey
REFRESH-INTERVAL;VALUE=DURATION:PT1H
X-Robots-Tag:noindex
X-PUBLISHED-TTL:PT1H
BEGIN:VTIMEZONE
TZID:America/Regina
BEGIN:STANDARD
TZOFFSETFROM:-0600
TZOFFSETTO:-0600
TZNAME:CST
DTSTART:20160101T000000
END:STANDARD
END:VTIMEZONE
BEGIN:VEVENT
DTSTART;TZID=America/Regina:20161204T123000
DTEND;TZID=America/Regina:20161204T140000
DTSTAMP:20260420T105301
CREATED:20161121T144834Z
LAST-MODIFIED:20161121T144834Z
UID:2300-1480854600-1480860000@southey.osatoworks.com
SUMMARY:Southey Emmanuel Advent Brunch
DESCRIPTION:Southey Emmanuel Lutheran Church advent brunch \nAdults- $12.00 \nChildren (10yrs and under)- $6.00 \nPreschool-Free \nMusical entertainment: “Time of our Lives” \nTickets available at the door.
URL:https://southey.osatoworks.com/event/southey-emmanuel-advent-brunch/
CATEGORIES:Rec Board Events/Community Calendar
END:VEVENT
END:VCALENDAR