BEGIN:VCALENDAR
VERSION:2.0
PRODID:-//Town of Southey - ECPv6.1.3//NONSGML v1.0//EN
CALSCALE:GREGORIAN
METHOD:PUBLISH
X-ORIGINAL-URL:https://southey.osatoworks.com
X-WR-CALDESC:Events for Town of Southey
REFRESH-INTERVAL;VALUE=DURATION:PT1H
X-Robots-Tag:noindex
X-PUBLISHED-TTL:PT1H
BEGIN:VTIMEZONE
TZID:America/Regina
BEGIN:STANDARD
TZOFFSETFROM:-0600
TZOFFSETTO:-0600
TZNAME:CST
DTSTART:20160101T000000
END:STANDARD
END:VTIMEZONE
BEGIN:VEVENT
DTSTART;TZID=America/Regina:20161208T011500
DTEND;TZID=America/Regina:20161208T150000
DTSTAMP:20260420T105301
CREATED:20161124T175024Z
LAST-MODIFIED:20161124T175024Z
UID:2335-1481159700-1481209200@southey.osatoworks.com
SUMMARY:RSS Carol Festival
DESCRIPTION:Matinee at 1:15pm at Robert Southey School
URL:https://southey.osatoworks.com/event/rss-carol-festival/
CATEGORIES:Rec Board Events/Community Calendar
END:VEVENT
BEGIN:VEVENT
DTSTART;TZID=America/Regina:20161208T190000
DTEND;TZID=America/Regina:20161208T190000
DTSTAMP:20260420T105301
CREATED:20161121T150405Z
LAST-MODIFIED:20161121T150405Z
UID:2328-1481223600-1481223600@southey.osatoworks.com
SUMMARY:Sparkle Tour
DESCRIPTION:Details to follow…..
URL:https://southey.osatoworks.com/event/sparkle-tour-2/
CATEGORIES:Rec Board Events/Community Calendar
END:VEVENT
END:VCALENDAR