BEGIN:VCALENDAR
VERSION:2.0
PRODID:-//Town of Southey - ECPv6.1.3//NONSGML v1.0//EN
CALSCALE:GREGORIAN
METHOD:PUBLISH
X-ORIGINAL-URL:https://southey.osatoworks.com
X-WR-CALDESC:Events for Town of Southey
REFRESH-INTERVAL;VALUE=DURATION:PT1H
X-Robots-Tag:noindex
X-PUBLISHED-TTL:PT1H
BEGIN:VTIMEZONE
TZID:America/Regina
BEGIN:STANDARD
TZOFFSETFROM:-0600
TZOFFSETTO:-0600
TZNAME:CST
DTSTART:20160101T000000
END:STANDARD
END:VTIMEZONE
BEGIN:VEVENT
DTSTART;TZID=America/Regina:20161226T190000
DTEND;TZID=America/Regina:20161226T210000
DTSTAMP:20260420T105408
CREATED:20161121T145603Z
LAST-MODIFIED:20161121T145603Z
UID:2322-1482778800-1482786000@southey.osatoworks.com
SUMMARY:Rec Board Meeting
DESCRIPTION:Location: Southey Town office
URL:https://southey.osatoworks.com/event/rec-board-meeting-7/
CATEGORIES:Rec Board Events/Community Calendar
END:VEVENT
END:VCALENDAR