BEGIN:VCALENDAR
VERSION:2.0
PRODID:-//Town of Southey - ECPv6.1.3//NONSGML v1.0//EN
CALSCALE:GREGORIAN
METHOD:PUBLISH
X-ORIGINAL-URL:https://southey.osatoworks.com
X-WR-CALDESC:Events for Town of Southey
REFRESH-INTERVAL;VALUE=DURATION:PT1H
X-Robots-Tag:noindex
X-PUBLISHED-TTL:PT1H
BEGIN:VTIMEZONE
TZID:America/Regina
BEGIN:STANDARD
TZOFFSETFROM:-0600
TZOFFSETTO:-0600
TZNAME:CST
DTSTART:20170101T000000
END:STANDARD
END:VTIMEZONE
BEGIN:VEVENT
DTSTART;TZID=America/Regina:20170101T130000
DTEND;TZID=America/Regina:20170101T160000
DTSTAMP:20260420T121059
CREATED:20161228T152227Z
LAST-MODIFIED:20161228T152227Z
UID:2361-1483275600-1483286400@southey.osatoworks.com
SUMMARY:Family Skate Day
DESCRIPTION:Come down to the Southey Skating rink for Family skate day
URL:https://southey.osatoworks.com/event/family-skate-day/
CATEGORIES:Rec Board Events/Community Calendar
END:VEVENT
END:VCALENDAR