BEGIN:VCALENDAR
VERSION:2.0
PRODID:-//Town of Southey - ECPv6.1.3//NONSGML v1.0//EN
CALSCALE:GREGORIAN
METHOD:PUBLISH
X-ORIGINAL-URL:https://southey.osatoworks.com
X-WR-CALDESC:Events for Town of Southey
REFRESH-INTERVAL;VALUE=DURATION:PT1H
X-Robots-Tag:noindex
X-PUBLISHED-TTL:PT1H
BEGIN:VTIMEZONE
TZID:America/Regina
BEGIN:STANDARD
TZOFFSETFROM:-0600
TZOFFSETTO:-0600
TZNAME:CST
DTSTART:20170101T000000
END:STANDARD
END:VTIMEZONE
BEGIN:VEVENT
DTSTART;TZID=America/Regina:20170323T190000
DTEND;TZID=America/Regina:20170323T203000
DTSTAMP:20260420T121143
CREATED:20170306T172559Z
LAST-MODIFIED:20170306T172559Z
UID:2459-1490295600-1490301000@southey.osatoworks.com
SUMMARY:Southey Soccer Club AGM and Registration
DESCRIPTION:Location: Southey Memorial Hall Basement \nTime: 7:00pm \nIf you have a child interested in playing soccer please attend the meeting.
URL:https://southey.osatoworks.com/event/southey-soccer-club-agm-and-registration/
CATEGORIES:Rec Board Events/Community Calendar
END:VEVENT
END:VCALENDAR