BEGIN:VCALENDAR
VERSION:2.0
PRODID:-//Town of Southey - ECPv6.1.3//NONSGML v1.0//EN
CALSCALE:GREGORIAN
METHOD:PUBLISH
X-WR-CALNAME:Town of Southey
X-ORIGINAL-URL:https://southey.osatoworks.com
X-WR-CALDESC:Events for Town of Southey
REFRESH-INTERVAL;VALUE=DURATION:PT1H
X-Robots-Tag:noindex
X-PUBLISHED-TTL:PT1H
BEGIN:VTIMEZONE
TZID:America/Regina
BEGIN:STANDARD
TZOFFSETFROM:-0600
TZOFFSETTO:-0600
TZNAME:CST
DTSTART:20170101T000000
END:STANDARD
END:VTIMEZONE
BEGIN:VEVENT
DTSTART;VALUE=DATE:20170328
DTEND;VALUE=DATE:20170329
DTSTAMP:20260420T105233
CREATED:20170306T171954Z
LAST-MODIFIED:20170306T171954Z
UID:2457-1490659200-1490745599@southey.osatoworks.com
SUMMARY:Recycle Day
DESCRIPTION:
URL:https://southey.osatoworks.com/event/recycle-day-23/
CATEGORIES:Rec Board Events/Community Calendar
END:VEVENT
BEGIN:VEVENT
DTSTART;TZID=America/Regina:20170328T093000
DTEND;TZID=America/Regina:20170328T153000
DTSTAMP:20260420T105233
CREATED:20170306T171212Z
LAST-MODIFIED:20170306T171212Z
UID:2443-1490693400-1490715000@southey.osatoworks.com
SUMMARY:Nurse Practitioner
DESCRIPTION:To book an appointment with the nurse practitioner please call 1-855-766-6399
URL:https://southey.osatoworks.com/event/nurse-practitioner-185/
CATEGORIES:Health Services,Rec Board Events/Community Calendar
END:VEVENT
END:VCALENDAR