BEGIN:VCALENDAR
VERSION:2.0
PRODID:-//Town of Southey - ECPv6.1.3//NONSGML v1.0//EN
CALSCALE:GREGORIAN
METHOD:PUBLISH
X-ORIGINAL-URL:https://southey.osatoworks.com
X-WR-CALDESC:Events for Town of Southey
REFRESH-INTERVAL;VALUE=DURATION:PT1H
X-Robots-Tag:noindex
X-PUBLISHED-TTL:PT1H
BEGIN:VTIMEZONE
TZID:America/Regina
BEGIN:STANDARD
TZOFFSETFROM:-0600
TZOFFSETTO:-0600
TZNAME:CST
DTSTART:20170101T000000
END:STANDARD
END:VTIMEZONE
BEGIN:VEVENT
DTSTART;TZID=America/Regina:20170519T073000
DTEND;TZID=America/Regina:20170519T100000
DTSTAMP:20260420T092433
CREATED:20170502T202800Z
LAST-MODIFIED:20170502T202800Z
UID:2511-1495179000-1495188000@southey.osatoworks.com
SUMMARY:Lab Service
DESCRIPTION:Lab Service will be available every Friday at the Health Action Centre.  Drop in only and requisition is required
URL:https://southey.osatoworks.com/event/lab-service/
CATEGORIES:Health Services,Rec Board Events/Community Calendar
END:VEVENT
END:VCALENDAR