BEGIN:VCALENDAR
VERSION:2.0
PRODID:-//Town of Southey - ECPv6.1.3//NONSGML v1.0//EN
CALSCALE:GREGORIAN
METHOD:PUBLISH
X-WR-CALNAME:Town of Southey
X-ORIGINAL-URL:https://southey.osatoworks.com
X-WR-CALDESC:Events for Town of Southey
REFRESH-INTERVAL;VALUE=DURATION:PT1H
X-Robots-Tag:noindex
X-PUBLISHED-TTL:PT1H
BEGIN:VTIMEZONE
TZID:America/Regina
BEGIN:STANDARD
TZOFFSETFROM:-0600
TZOFFSETTO:-0600
TZNAME:CST
DTSTART:20170101T000000
END:STANDARD
END:VTIMEZONE
BEGIN:VEVENT
DTSTART;VALUE=DATE:20170617
DTEND;VALUE=DATE:20170618
DTSTAMP:20260420T080027
CREATED:20170530T143414Z
LAST-MODIFIED:20170530T143414Z
UID:2599-1497657600-1497743999@southey.osatoworks.com
SUMMARY:Hi-Neighbour Day
DESCRIPTION:Come on down to the Southey Sports Grounds & Skating Rink and say “Hi Neighbour” at Southey’s Hi Neighbour Day on June 17th.  Events start at 8AM and finish with fireworks at 10:45PM.  Southey & District Rec Board. \n 
URL:https://southey.osatoworks.com/event/hi-neighbour-day/
CATEGORIES:Rec Board Events/Community Calendar
END:VEVENT
BEGIN:VEVENT
DTSTART;TZID=America/Regina:20170617T070000
DTEND;TZID=America/Regina:20170617T110000
DTSTAMP:20260420T080027
CREATED:20170505T142457Z
LAST-MODIFIED:20170505T142457Z
UID:2560-1497682800-1497697200@southey.osatoworks.com
SUMMARY:Town of Southey
DESCRIPTION:Pancake Breakfast
URL:https://southey.osatoworks.com/event/town-of-southey/
CATEGORIES:Lions Grill Rental
END:VEVENT
END:VCALENDAR