BEGIN:VCALENDAR
VERSION:2.0
PRODID:-//Town of Southey - ECPv6.1.3//NONSGML v1.0//EN
CALSCALE:GREGORIAN
METHOD:PUBLISH
X-ORIGINAL-URL:https://southey.osatoworks.com
X-WR-CALDESC:Events for Town of Southey
REFRESH-INTERVAL;VALUE=DURATION:PT1H
X-Robots-Tag:noindex
X-PUBLISHED-TTL:PT1H
BEGIN:VTIMEZONE
TZID:America/Regina
BEGIN:STANDARD
TZOFFSETFROM:-0600
TZOFFSETTO:-0600
TZNAME:CST
DTSTART:20180101T000000
END:STANDARD
END:VTIMEZONE
BEGIN:VEVENT
DTSTART;TZID=America/Regina:20180428T173000
DTEND;TZID=America/Regina:20180428T233000
DTSTAMP:20260419T085245
CREATED:20180320T161720Z
LAST-MODIFIED:20180320T161720Z
UID:2933-1524936600-1524958200@southey.osatoworks.com
SUMMARY:Fire Dept. Appreciation Fundraiser
DESCRIPTION:Cocktails 5:30pm \nSupper 7:00pm \nTickets are $40.00 each or a table of 8 for $300.00 \nGuest speakers Don Narcisse (former Roughrider) and Randy Ryba (Regina Fire Dept.) \nContact Gord Baragar 306-726-7060\, Garth Neher 306-537-3240 or Danny Zurowski 306-726-8082\, or any member of the Southey Fire Department for tickets. \nTables will be auctioned off for each special guest.  Contact Gord\, Garth or Danny to place your bid. \nSilent Auction!   Door Prizes
URL:https://southey.osatoworks.com/event/fire-dept-appreciation-fundraiser/
CATEGORIES:Rec Board Events/Community Calendar
END:VEVENT
END:VCALENDAR