BEGIN:VCALENDAR
VERSION:2.0
PRODID:-//Town of Southey - ECPv6.1.3//NONSGML v1.0//EN
CALSCALE:GREGORIAN
METHOD:PUBLISH
X-ORIGINAL-URL:https://southey.osatoworks.com
X-WR-CALDESC:Events for Town of Southey
REFRESH-INTERVAL;VALUE=DURATION:PT1H
X-Robots-Tag:noindex
X-PUBLISHED-TTL:PT1H
BEGIN:VTIMEZONE
TZID:America/Regina
BEGIN:STANDARD
TZOFFSETFROM:-0600
TZOFFSETTO:-0600
TZNAME:CST
DTSTART:20180101T000000
END:STANDARD
END:VTIMEZONE
BEGIN:VEVENT
DTSTART;TZID=America/Regina:20180623T170000
DTEND;TZID=America/Regina:20180623T233000
DTSTAMP:20260419T121015
CREATED:20180516T194948Z
LAST-MODIFIED:20180516T194948Z
UID:3073-1529773200-1529796600@southey.osatoworks.com
SUMMARY:Loon Creek Wildlife BBQ Ribs and Beer Fundraiser
DESCRIPTION:BBQ RIBS and BEER Fund Raiser that is being held:\nat the Southey Rink.\nCocktails 5 p.m.\nSupper 6-8 p.m. \nAwards and Raffles to follow.\nSupper tickets are: Adults $20.00\, Children under 12 $12.00 Pre-school FREE.\nGet your tickets at Southey Agencies in either location Earl Grey or Southey branch
URL:https://southey.osatoworks.com/event/loon-creek-wildlife-bbq-ribs-and-beer-fundraiser/
CATEGORIES:Rec Board Events/Community Calendar
END:VEVENT
END:VCALENDAR