BEGIN:VCALENDAR
VERSION:2.0
PRODID:-//Town of Southey - ECPv6.1.3//NONSGML v1.0//EN
CALSCALE:GREGORIAN
METHOD:PUBLISH
X-WR-CALNAME:Town of Southey
X-ORIGINAL-URL:https://southey.osatoworks.com
X-WR-CALDESC:Events for Town of Southey
REFRESH-INTERVAL;VALUE=DURATION:PT1H
X-Robots-Tag:noindex
X-PUBLISHED-TTL:PT1H
BEGIN:VTIMEZONE
TZID:America/Regina
BEGIN:STANDARD
TZOFFSETFROM:-0600
TZOFFSETTO:-0600
TZNAME:CST
DTSTART:20180101T000000
END:STANDARD
END:VTIMEZONE
BEGIN:VEVENT
DTSTART;VALUE=DATE:20180915
DTEND;VALUE=DATE:20180916
DTSTAMP:20260419T230352
CREATED:20180822T150850Z
LAST-MODIFIED:20180822T150850Z
UID:3220-1536969600-1537055999@southey.osatoworks.com
SUMMARY:Marlins Cabaret & Plastic Batball Tournament
DESCRIPTION:Cabaret featuring  Odd Man Out $20.00 tickets\, $25.00 at the door \n$200.00 entry fee for ball team (includes Cabaret ticket and tournament fee\, 7 players per team) \nTickets can be purchased from: \nSouthey Hotel 726-2213  Southey Drugs 726-2024  Mitch Robinson 550-9089 \nNelson Davis 533-4507  Lee Hanrieder  737-3503  Mark Gerrard 726-7679 \nEnter team to Lee by Sept 1.
URL:https://southey.osatoworks.com/event/marlins-cabaret-plastic-batball-tournament/
CATEGORIES:Rec Board Events/Community Calendar
END:VEVENT
END:VCALENDAR