BEGIN:VCALENDAR
VERSION:2.0
PRODID:-//Town of Southey - ECPv6.1.3//NONSGML v1.0//EN
CALSCALE:GREGORIAN
METHOD:PUBLISH
X-ORIGINAL-URL:https://southey.osatoworks.com
X-WR-CALDESC:Events for Town of Southey
REFRESH-INTERVAL;VALUE=DURATION:PT1H
X-Robots-Tag:noindex
X-PUBLISHED-TTL:PT1H
BEGIN:VTIMEZONE
TZID:America/Regina
BEGIN:STANDARD
TZOFFSETFROM:-0600
TZOFFSETTO:-0600
TZNAME:CST
DTSTART:20180101T000000
END:STANDARD
END:VTIMEZONE
BEGIN:VEVENT
DTSTART;TZID=America/Regina:20180924T190000
DTEND;TZID=America/Regina:20180924T210000
DTSTAMP:20260420T042445
CREATED:20180822T150018Z
LAST-MODIFIED:20180822T150018Z
UID:3211-1537815600-1537822800@southey.osatoworks.com
SUMMARY:Southey and District Rec Board Meeting
DESCRIPTION:Meeting held at town office
URL:https://southey.osatoworks.com/event/southey-and-district-rec-board-meeting/
CATEGORIES:Rec Board Events/Community Calendar
END:VEVENT
END:VCALENDAR