BEGIN:VCALENDAR
VERSION:2.0
PRODID:-//Town of Southey - ECPv6.1.3//NONSGML v1.0//EN
CALSCALE:GREGORIAN
METHOD:PUBLISH
X-ORIGINAL-URL:https://southey.osatoworks.com
X-WR-CALDESC:Events for Town of Southey
REFRESH-INTERVAL;VALUE=DURATION:PT1H
X-Robots-Tag:noindex
X-PUBLISHED-TTL:PT1H
BEGIN:VTIMEZONE
TZID:America/Regina
BEGIN:STANDARD
TZOFFSETFROM:-0600
TZOFFSETTO:-0600
TZNAME:CST
DTSTART:20180101T000000
END:STANDARD
END:VTIMEZONE
BEGIN:VEVENT
DTSTART;VALUE=DATE:20181012
DTEND;VALUE=DATE:20181013
DTSTAMP:20260420T052923
CREATED:20180914T154217Z
LAST-MODIFIED:20180914T154217Z
UID:3254-1539302400-1539388799@southey.osatoworks.com
SUMMARY:Nurse Practitioner
DESCRIPTION:To book an appointment please call 1-855-766-6399
URL:https://southey.osatoworks.com/event/nurse-practitioner-296/
CATEGORIES:Health Services,Rec Board Events/Community Calendar
END:VEVENT
BEGIN:VEVENT
DTSTART;TZID=America/Regina:20181012T073000
DTEND;TZID=America/Regina:20181012T100000
DTSTAMP:20260420T052923
CREATED:20180914T163813Z
LAST-MODIFIED:20180914T163813Z
UID:3270-1539329400-1539338400@southey.osatoworks.com
SUMMARY:Lab Services
DESCRIPTION:Walk in Only \nPlease bring your health card and requisition with
URL:https://southey.osatoworks.com/event/lab-services-81/
CATEGORIES:Health Services,Rec Board Events/Community Calendar
END:VEVENT
BEGIN:VEVENT
DTSTART;TZID=America/Regina:20181012T160000
DTEND;TZID=America/Regina:20181012T190000
DTSTAMP:20260420T052923
CREATED:20180925T153533Z
LAST-MODIFIED:20180925T153533Z
UID:3295-1539360000-1539370800@southey.osatoworks.com
SUMMARY:Community Clean Up
DESCRIPTION:There will be a bin out at the old transfer station to take all your fall clean up garbage to.  It will be open Friday Oct 12 4pm-7pm\, Saturday Oct 13 10am-4pm and Sunday Oct 14 1pm-4pm.  The costs will be as follows: \nSmall Load- $10.00 per load \n1/2 ton box full- $20.00 per load \nFurniture (couches\, loveseats\, larger chairs)- $10.00 per item \nLarger trailers\, Flatdecks- $40.00 per load \n2 ton truck load- $100.00 per load
URL:https://southey.osatoworks.com/event/community-clean-up/
CATEGORIES:Health Services,Rec Board Events/Community Calendar
END:VEVENT
END:VCALENDAR