BEGIN:VCALENDAR
VERSION:2.0
PRODID:-//Town of Southey - ECPv6.1.3//NONSGML v1.0//EN
CALSCALE:GREGORIAN
METHOD:PUBLISH
X-ORIGINAL-URL:https://southey.osatoworks.com
X-WR-CALDESC:Events for Town of Southey
REFRESH-INTERVAL;VALUE=DURATION:PT1H
X-Robots-Tag:noindex
X-PUBLISHED-TTL:PT1H
BEGIN:VTIMEZONE
TZID:America/Regina
BEGIN:STANDARD
TZOFFSETFROM:-0600
TZOFFSETTO:-0600
TZNAME:CST
DTSTART:20180101T000000
END:STANDARD
END:VTIMEZONE
BEGIN:VEVENT
DTSTART;TZID=America/Regina:20181206T183000
DTEND;TZID=America/Regina:20181206T210000
DTSTAMP:20260419T021752
CREATED:20181126T171656Z
LAST-MODIFIED:20181126T171656Z
UID:3382-1544121000-1544130000@southey.osatoworks.com
SUMMARY:Southey & District Lioness Annual Sparkle Tour
DESCRIPTION:Refreshments-6:30pm\, Entertainment 7:00pm\, Sparkle tour around the town to follow.  If you require a ride\, please contact Donna at the Post Office at 306-726-2242 (during business hours please).   We welcome all Southey & District Seniors to an evening celebrating the sights and sounds of the season.
URL:https://southey.osatoworks.com/event/southey-district-lioness-annual-sparkle-tour/
CATEGORIES:Rec Board Events/Community Calendar
END:VEVENT
END:VCALENDAR