BEGIN:VCALENDAR
VERSION:2.0
PRODID:-//Town of Southey - ECPv6.1.3//NONSGML v1.0//EN
CALSCALE:GREGORIAN
METHOD:PUBLISH
X-ORIGINAL-URL:https://southey.osatoworks.com
X-WR-CALDESC:Events for Town of Southey
REFRESH-INTERVAL;VALUE=DURATION:PT1H
X-Robots-Tag:noindex
X-PUBLISHED-TTL:PT1H
BEGIN:VTIMEZONE
TZID:America/Regina
BEGIN:STANDARD
TZOFFSETFROM:-0600
TZOFFSETTO:-0600
TZNAME:CST
DTSTART:20180101T000000
END:STANDARD
END:VTIMEZONE
BEGIN:VEVENT
DTSTART;TZID=America/Regina:20181221T073000
DTEND;TZID=America/Regina:20181221T100000
DTSTAMP:20260419T021752
CREATED:20181116T173105Z
LAST-MODIFIED:20181116T173105Z
UID:3362-1545377400-1545386400@southey.osatoworks.com
SUMMARY:Nurse Practitioner
DESCRIPTION:Please bring your requisition and health card with you \nWalk ins only
URL:https://southey.osatoworks.com/event/nurse-practitioner-310/
CATEGORIES:Health Services,Rec Board Events/Community Calendar
END:VEVENT
END:VCALENDAR