BEGIN:VCALENDAR
VERSION:2.0
PRODID:-//Town of Southey - ECPv6.1.3//NONSGML v1.0//EN
CALSCALE:GREGORIAN
METHOD:PUBLISH
X-WR-CALNAME:Town of Southey
X-ORIGINAL-URL:https://southey.osatoworks.com
X-WR-CALDESC:Events for Town of Southey
REFRESH-INTERVAL;VALUE=DURATION:PT1H
X-Robots-Tag:noindex
X-PUBLISHED-TTL:PT1H
BEGIN:VTIMEZONE
TZID:America/Regina
BEGIN:STANDARD
TZOFFSETFROM:-0600
TZOFFSETTO:-0600
TZNAME:CST
DTSTART:20190101T000000
END:STANDARD
END:VTIMEZONE
BEGIN:VEVENT
DTSTART;VALUE=DATE:20190326
DTEND;VALUE=DATE:20190327
DTSTAMP:20260422T031944
CREATED:20190227T155203Z
LAST-MODIFIED:20190227T155203Z
UID:3548-1553558400-1553644799@southey.osatoworks.com
SUMMARY:Nurse Practitioner
DESCRIPTION:To book an appointment please call 1-855-766-6399
URL:https://southey.osatoworks.com/event/nurse-practitioner-330/
LOCATION:Southey Health Centre\, 290 Keats Street\, Southey\, Saskatchewan\, S0G 4P0\, Canada
CATEGORIES:Health Services,Rec Board Events/Community Calendar
END:VEVENT
BEGIN:VEVENT
DTSTART;TZID=America/Regina:20190326T070000
DTEND;TZID=America/Regina:20190326T170000
DTSTAMP:20260422T031944
CREATED:20190227T155734Z
LAST-MODIFIED:20190227T155734Z
UID:3560-1553583600-1553619600@southey.osatoworks.com
SUMMARY:Nurse Practitioner
DESCRIPTION:Please ensure your bins are rolled out by 7:00am
URL:https://southey.osatoworks.com/event/nurse-practitioner-332/
CATEGORIES:Rec Board Events/Community Calendar
END:VEVENT
BEGIN:VEVENT
DTSTART;TZID=America/Regina:20190326T190000
DTEND;TZID=America/Regina:20190326T210000
DTSTAMP:20260422T031944
CREATED:20190227T155635Z
LAST-MODIFIED:20190227T155635Z
UID:3556-1553626800-1553634000@southey.osatoworks.com
SUMMARY:Town Council Meeting
DESCRIPTION:
URL:https://southey.osatoworks.com/event/town-council-meeting-38/
LOCATION:Town Office
CATEGORIES:Rec Board Events/Community Calendar
END:VEVENT
END:VCALENDAR