BEGIN:VCALENDAR
VERSION:2.0
PRODID:-//Town of Southey - ECPv6.1.3//NONSGML v1.0//EN
CALSCALE:GREGORIAN
METHOD:PUBLISH
X-ORIGINAL-URL:https://southey.osatoworks.com
X-WR-CALDESC:Events for Town of Southey
REFRESH-INTERVAL;VALUE=DURATION:PT1H
X-Robots-Tag:noindex
X-PUBLISHED-TTL:PT1H
BEGIN:VTIMEZONE
TZID:America/Regina
BEGIN:STANDARD
TZOFFSETFROM:-0600
TZOFFSETTO:-0600
TZNAME:CST
DTSTART:20190101T000000
END:STANDARD
END:VTIMEZONE
BEGIN:VEVENT
DTSTART;TZID=America/Regina:20190411T190000
DTEND;TZID=America/Regina:20190411T210000
DTSTAMP:20260420T000421
CREATED:20190410T172318Z
LAST-MODIFIED:20190410T172318Z
UID:3601-1555009200-1555016400@southey.osatoworks.com
SUMMARY:People\, Plant\, Pride Grow Together Event
DESCRIPTION:Prairie Central along with the Town Beautification Group are hosting a People\, Plant\, Pride Night.  Everyone Welcome.  Refreshments will be supplied.
URL:https://southey.osatoworks.com/event/people-plant-pride-grow-together-event/
LOCATION:Town Hall\, Keats ST\, Southey\, Saskatchewan\, S0G 4P0\, Canada
END:VEVENT
END:VCALENDAR