BEGIN:VCALENDAR
VERSION:2.0
PRODID:-//Town of Southey - ECPv6.1.3//NONSGML v1.0//EN
CALSCALE:GREGORIAN
METHOD:PUBLISH
X-ORIGINAL-URL:https://southey.osatoworks.com
X-WR-CALDESC:Events for Town of Southey
REFRESH-INTERVAL;VALUE=DURATION:PT1H
X-Robots-Tag:noindex
X-PUBLISHED-TTL:PT1H
BEGIN:VTIMEZONE
TZID:America/Regina
BEGIN:STANDARD
TZOFFSETFROM:-0600
TZOFFSETTO:-0600
TZNAME:CST
DTSTART:20150101T000000
END:STANDARD
END:VTIMEZONE
BEGIN:VEVENT
DTSTART;TZID=America/Regina:20150203T093000
DTEND;TZID=America/Regina:20150203T150000
DTSTAMP:20260422T133331
CREATED:20150129T154735Z
LAST-MODIFIED:20150129T154735Z
UID:1149-1422955800-1422975600@southey.osatoworks.com
SUMMARY:Nurse Practitioner
DESCRIPTION:To book an appointment please call 1-855-766-6399
URL:https://southey.osatoworks.com/event/nurse-practitioner-45/
CATEGORIES:Health Services
END:VEVENT
BEGIN:VEVENT
DTSTART;TZID=America/Regina:20150206T093000
DTEND;TZID=America/Regina:20150206T150000
DTSTAMP:20260422T133331
CREATED:20150129T154808Z
LAST-MODIFIED:20150129T154808Z
UID:1150-1423215000-1423234800@southey.osatoworks.com
SUMMARY:Nurse Practitioner
DESCRIPTION:To book an appointment please call 1-855-766-6399
URL:https://southey.osatoworks.com/event/nurse-practitioner-46/
CATEGORIES:Health Services
END:VEVENT
BEGIN:VEVENT
DTSTART;TZID=America/Regina:20150210T093000
DTEND;TZID=America/Regina:20150210T150000
DTSTAMP:20260422T133331
CREATED:20150129T154834Z
LAST-MODIFIED:20150129T154834Z
UID:1151-1423560600-1423580400@southey.osatoworks.com
SUMMARY:Nurse Practitioner
DESCRIPTION:To book an appointment please call 1-855-766-6399
URL:https://southey.osatoworks.com/event/nurse-practitioner-47/
CATEGORIES:Health Services
END:VEVENT
BEGIN:VEVENT
DTSTART;TZID=America/Regina:20150213T093000
DTEND;TZID=America/Regina:20150213T150000
DTSTAMP:20260422T133331
CREATED:20150129T154903Z
LAST-MODIFIED:20150129T154903Z
UID:1152-1423819800-1423839600@southey.osatoworks.com
SUMMARY:Nurse Practitioner
DESCRIPTION:To book an appointment please call 1-855-766-6399
URL:https://southey.osatoworks.com/event/nurse-practitioner-48/
CATEGORIES:Health Services
END:VEVENT
BEGIN:VEVENT
DTSTART;TZID=America/Regina:20150217T093000
DTEND;TZID=America/Regina:20150217T150000
DTSTAMP:20260422T133331
CREATED:20150129T154932Z
LAST-MODIFIED:20150129T154932Z
UID:1153-1424165400-1424185200@southey.osatoworks.com
SUMMARY:Nurse Practitioner
DESCRIPTION:To book an appointment please call 1-855-766-6399
URL:https://southey.osatoworks.com/event/nurse-practitioner-49/
CATEGORIES:Health Services
END:VEVENT
BEGIN:VEVENT
DTSTART;TZID=America/Regina:20150220T090000
DTEND;TZID=America/Regina:20150220T170000
DTSTAMP:20260422T133331
CREATED:20150129T154951Z
LAST-MODIFIED:20150129T154951Z
UID:1154-1424422800-1424451600@southey.osatoworks.com
SUMMARY:NO CLINIC
DESCRIPTION:
URL:https://southey.osatoworks.com/event/no-clinic-4/
CATEGORIES:Health Services
END:VEVENT
BEGIN:VEVENT
DTSTART;TZID=America/Regina:20150223T160000
DTEND;TZID=America/Regina:20150223T200000
DTSTAMP:20260422T133331
CREATED:20150202T144011Z
LAST-MODIFIED:20150202T144011Z
UID:1166-1424707200-1424721600@southey.osatoworks.com
SUMMARY:Lioness Blood Drive
DESCRIPTION:Lioness Blood drive at Robert Southey School.  Please come out and donate!
URL:https://southey.osatoworks.com/event/lioness-blood-drive/
CATEGORIES:Health Services,Rec Board Events/Community Calendar
END:VEVENT
BEGIN:VEVENT
DTSTART;TZID=America/Regina:20150224T093000
DTEND;TZID=America/Regina:20150224T150000
DTSTAMP:20260422T133331
CREATED:20150129T155018Z
LAST-MODIFIED:20150129T155018Z
UID:1155-1424770200-1424790000@southey.osatoworks.com
SUMMARY:Nurse Practitioner
DESCRIPTION:To book an appointment please call 1-855-766-6399
URL:https://southey.osatoworks.com/event/nurse-practitioner-50/
CATEGORIES:Health Services
END:VEVENT
BEGIN:VEVENT
DTSTART;TZID=America/Regina:20150224T093000
DTEND;TZID=America/Regina:20150224T150000
DTSTAMP:20260422T133331
CREATED:20150225T170028Z
LAST-MODIFIED:20150225T170028Z
UID:1263-1424770200-1424790000@southey.osatoworks.com
SUMMARY:Nurse Practitioner
DESCRIPTION:To book an appointment please call 1-855-766-6399
URL:https://southey.osatoworks.com/event/nurse-practitioner-57/
CATEGORIES:Health Services
END:VEVENT
BEGIN:VEVENT
DTSTART;TZID=America/Regina:20150227T093000
DTEND;TZID=America/Regina:20150227T150000
DTSTAMP:20260422T133331
CREATED:20150129T155046Z
LAST-MODIFIED:20150129T155046Z
UID:1156-1425029400-1425049200@southey.osatoworks.com
SUMMARY:Nurse Practitioner
DESCRIPTION:To book an appointment please call 1-855-766-6399
URL:https://southey.osatoworks.com/event/nurse-practitioner-51/
CATEGORIES:Health Services
END:VEVENT
END:VCALENDAR