BEGIN:VCALENDAR
VERSION:2.0
PRODID:-//Town of Southey - ECPv6.1.3//NONSGML v1.0//EN
CALSCALE:GREGORIAN
METHOD:PUBLISH
X-ORIGINAL-URL:https://southey.osatoworks.com
X-WR-CALDESC:Events for Town of Southey
REFRESH-INTERVAL;VALUE=DURATION:PT1H
X-Robots-Tag:noindex
X-PUBLISHED-TTL:PT1H
BEGIN:VTIMEZONE
TZID:America/Regina
BEGIN:STANDARD
TZOFFSETFROM:-0600
TZOFFSETTO:-0600
TZNAME:CST
DTSTART:20150101T000000
END:STANDARD
END:VTIMEZONE
BEGIN:VEVENT
DTSTART;TZID=America/Regina:20151002T093000
DTEND;TZID=America/Regina:20151002T150000
DTSTAMP:20260422T011558
CREATED:20150925T191045Z
LAST-MODIFIED:20150925T191045Z
UID:1634-1443778200-1443798000@southey.osatoworks.com
SUMMARY:Nurse Practitioner
DESCRIPTION:To book an appointment with the nurse practitioner please call 1-855-766-6399
URL:https://southey.osatoworks.com/event/nurse-practitioner-100/
CATEGORIES:Health Services,Rec Board Events/Community Calendar
END:VEVENT
BEGIN:VEVENT
DTSTART;TZID=America/Regina:20151006T093000
DTEND;TZID=America/Regina:20151006T150000
DTSTAMP:20260422T011558
CREATED:20150925T191112Z
LAST-MODIFIED:20150925T191112Z
UID:1635-1444123800-1444143600@southey.osatoworks.com
SUMMARY:Nurse Practitioner
DESCRIPTION:To book an appointment with the nurse practitioner please call 1-855-766-6399
URL:https://southey.osatoworks.com/event/nurse-practitioner-101/
CATEGORIES:Health Services,Rec Board Events/Community Calendar
END:VEVENT
BEGIN:VEVENT
DTSTART;TZID=America/Regina:20151013T093000
DTEND;TZID=America/Regina:20151013T150000
DTSTAMP:20260422T011558
CREATED:20150925T191155Z
LAST-MODIFIED:20150925T191155Z
UID:1636-1444728600-1444748400@southey.osatoworks.com
SUMMARY:Nurse Practitioner
DESCRIPTION:To book an appointment with the nurse practitioner please call 1-855-766-6399
URL:https://southey.osatoworks.com/event/nurse-practitioner-102/
CATEGORIES:Health Services,Rec Board Events/Community Calendar
END:VEVENT
BEGIN:VEVENT
DTSTART;TZID=America/Regina:20151014T093000
DTEND;TZID=America/Regina:20151014T160000
DTSTAMP:20260422T011558
CREATED:20151007T214642Z
LAST-MODIFIED:20151007T214642Z
UID:1646-1444815000-1444838400@southey.osatoworks.com
SUMMARY:Massage Therapist
DESCRIPTION:Registered Massage Therapist \n$40.00 for 30 minutes \n$50.00 for 45 Minutes \n$60.00 for 60 Minutes \nTo book an appointment call 306-539-4663 \nCash or cheque only
URL:https://southey.osatoworks.com/event/massage-therapist-10/
CATEGORIES:Health Services,Rec Board Events/Community Calendar
END:VEVENT
BEGIN:VEVENT
DTSTART;TZID=America/Regina:20151016T093000
DTEND;TZID=America/Regina:20151016T150000
DTSTAMP:20260422T011558
CREATED:20150925T191245Z
LAST-MODIFIED:20150925T191245Z
UID:1637-1444987800-1445007600@southey.osatoworks.com
SUMMARY:Nurse Practitioner
DESCRIPTION:To book an appointment with the nurse practitioner please call 1-855-766-6399
URL:https://southey.osatoworks.com/event/nurse-practitioner-103/
CATEGORIES:Health Services,Rec Board Events/Community Calendar
END:VEVENT
BEGIN:VEVENT
DTSTART;TZID=America/Regina:20151020T093000
DTEND;TZID=America/Regina:20151020T150000
DTSTAMP:20260422T011558
CREATED:20150925T191310Z
LAST-MODIFIED:20150925T191310Z
UID:1638-1445333400-1445353200@southey.osatoworks.com
SUMMARY:Nurse Practitioner
DESCRIPTION:To book an appointment with the nurse practitioner please call 1-855-766-6399
URL:https://southey.osatoworks.com/event/nurse-practitioner-104/
CATEGORIES:Health Services,Rec Board Events/Community Calendar
END:VEVENT
BEGIN:VEVENT
DTSTART;TZID=America/Regina:20151021T093000
DTEND;TZID=America/Regina:20151021T160000
DTSTAMP:20260422T011558
CREATED:20151007T214732Z
LAST-MODIFIED:20151007T214732Z
UID:1647-1445419800-1445443200@southey.osatoworks.com
SUMMARY:Massage Therapist
DESCRIPTION:Registered Massage Therapist \n$40.00 for 30 minutes \n$50.00 for 45 Minutes \n$60.00 for 60 Minutes \nTo book an appointment call 306-539-4663 \nCash or cheque only
URL:https://southey.osatoworks.com/event/massage-therapist-11/
CATEGORIES:Health Services,Rec Board Events/Community Calendar
END:VEVENT
BEGIN:VEVENT
DTSTART;TZID=America/Regina:20151023T093000
DTEND;TZID=America/Regina:20151023T150000
DTSTAMP:20260422T011558
CREATED:20150925T191339Z
LAST-MODIFIED:20150925T191339Z
UID:1639-1445592600-1445612400@southey.osatoworks.com
SUMMARY:Nurse Pracitioner
DESCRIPTION:To book an appointment with the nurse practitioner please call 1-855-766-6399
URL:https://southey.osatoworks.com/event/nurse-pracitioner/
CATEGORIES:Health Services,Rec Board Events/Community Calendar
END:VEVENT
BEGIN:VEVENT
DTSTART;TZID=America/Regina:20151027T093000
DTEND;TZID=America/Regina:20151027T150000
DTSTAMP:20260422T011558
CREATED:20150925T191401Z
LAST-MODIFIED:20150925T191401Z
UID:1640-1445938200-1445958000@southey.osatoworks.com
SUMMARY:Nurse Practitioner
DESCRIPTION:To book an appointment with the nurse practitioner please call 1-855-766-6399
URL:https://southey.osatoworks.com/event/nurse-practitioner-105/
CATEGORIES:Health Services,Rec Board Events/Community Calendar
END:VEVENT
BEGIN:VEVENT
DTSTART;TZID=America/Regina:20151028T093000
DTEND;TZID=America/Regina:20151028T160000
DTSTAMP:20260422T011558
CREATED:20151007T214756Z
LAST-MODIFIED:20151007T214756Z
UID:1648-1446024600-1446048000@southey.osatoworks.com
SUMMARY:Massage Therapist
DESCRIPTION:Registered Massage Therapist \n$40.00 for 30 minutes \n$50.00 for 45 Minutes \n$60.00 for 60 Minutes \nTo book an appointment call 306-539-4663 \nCash or cheque only
URL:https://southey.osatoworks.com/event/massage-therapist-12/
CATEGORIES:Health Services,Rec Board Events/Community Calendar
END:VEVENT
END:VCALENDAR