BEGIN:VCALENDAR
VERSION:2.0
PRODID:-//Town of Southey - ECPv6.1.3//NONSGML v1.0//EN
CALSCALE:GREGORIAN
METHOD:PUBLISH
X-ORIGINAL-URL:https://southey.osatoworks.com
X-WR-CALDESC:Events for Town of Southey
REFRESH-INTERVAL;VALUE=DURATION:PT1H
X-Robots-Tag:noindex
X-PUBLISHED-TTL:PT1H
BEGIN:VTIMEZONE
TZID:America/Regina
BEGIN:STANDARD
TZOFFSETFROM:-0600
TZOFFSETTO:-0600
TZNAME:CST
DTSTART:20150101T000000
END:STANDARD
END:VTIMEZONE
BEGIN:VEVENT
DTSTART;TZID=America/Regina:20151103T093000
DTEND;TZID=America/Regina:20151103T150000
DTSTAMP:20260421T234827
CREATED:20151028T162406Z
LAST-MODIFIED:20151028T162406Z
UID:1678-1446543000-1446562800@southey.osatoworks.com
SUMMARY:Nurse Practitioner
DESCRIPTION:To book an appointment please call 1-855-766-6399
URL:https://southey.osatoworks.com/event/nurse-practitioner-106/
CATEGORIES:Health Services,Rec Board Events/Community Calendar
END:VEVENT
BEGIN:VEVENT
DTSTART;TZID=America/Regina:20151104T093000
DTEND;TZID=America/Regina:20151104T160000
DTSTAMP:20260421T234827
CREATED:20151104T142210Z
LAST-MODIFIED:20151104T142444Z
UID:1690-1446629400-1446652800@southey.osatoworks.com
SUMMARY:Massage Therapist
DESCRIPTION:To book an appointment call 306-539-4663 \nCash or Cheque only
URL:https://southey.osatoworks.com/event/massage-therapist-15/
CATEGORIES:Health Services,Rec Board Events/Community Calendar
END:VEVENT
BEGIN:VEVENT
DTSTART;TZID=America/Regina:20151105T140000
DTEND;TZID=America/Regina:20151105T180000
DTSTAMP:20260421T234827
CREATED:20151008T173122Z
LAST-MODIFIED:20151008T173122Z
UID:1650-1446732000-1446746400@southey.osatoworks.com
SUMMARY:Flu Clinic
DESCRIPTION:Senior Citizens club drop-in Flu clinic \n 
URL:https://southey.osatoworks.com/event/flu-clinic/
CATEGORIES:Health Services,Rec Board Events/Community Calendar
END:VEVENT
BEGIN:VEVENT
DTSTART;TZID=America/Regina:20151106T093000
DTEND;TZID=America/Regina:20151106T150000
DTSTAMP:20260421T234827
CREATED:20151028T162434Z
LAST-MODIFIED:20151028T162434Z
UID:1679-1446802200-1446822000@southey.osatoworks.com
SUMMARY:Nurse Practitioner
DESCRIPTION:To book an appointment please call 1-855-766-6399
URL:https://southey.osatoworks.com/event/nurse-practitioner-107/
CATEGORIES:Health Services,Rec Board Events/Community Calendar
END:VEVENT
BEGIN:VEVENT
DTSTART;TZID=America/Regina:20151111T093000
DTEND;TZID=America/Regina:20151111T160000
DTSTAMP:20260421T234827
CREATED:20151104T142108Z
LAST-MODIFIED:20151104T142424Z
UID:1688-1447234200-1447257600@southey.osatoworks.com
SUMMARY:Massage Therapist
DESCRIPTION:To book an appointment call 306-539-4663 \nCash or Cheque only
URL:https://southey.osatoworks.com/event/massage-therapist-14/
CATEGORIES:Health Services,Rec Board Events/Community Calendar
END:VEVENT
BEGIN:VEVENT
DTSTART;TZID=America/Regina:20151113T093000
DTEND;TZID=America/Regina:20151113T150000
DTSTAMP:20260421T234827
CREATED:20151028T162503Z
LAST-MODIFIED:20151028T162503Z
UID:1680-1447407000-1447426800@southey.osatoworks.com
SUMMARY:Nurse Practitioner
DESCRIPTION:To book an appointment please call 1-855-766-6399
URL:https://southey.osatoworks.com/event/nurse-practitioner-108/
CATEGORIES:Health Services,Rec Board Events/Community Calendar
END:VEVENT
BEGIN:VEVENT
DTSTART;TZID=America/Regina:20151117T093000
DTEND;TZID=America/Regina:20151117T150000
DTSTAMP:20260421T234827
CREATED:20151028T162537Z
LAST-MODIFIED:20151028T162537Z
UID:1681-1447752600-1447772400@southey.osatoworks.com
SUMMARY:Nurse Practitioner
DESCRIPTION:To book an appointment please call 1-855-766-6399
URL:https://southey.osatoworks.com/event/nurse-practitioner-109/
CATEGORIES:Health Services,Rec Board Events/Community Calendar
END:VEVENT
BEGIN:VEVENT
DTSTART;TZID=America/Regina:20151118T093000
DTEND;TZID=America/Regina:20151118T160000
DTSTAMP:20260421T234827
CREATED:20151104T142319Z
LAST-MODIFIED:20151104T142319Z
UID:1691-1447839000-1447862400@southey.osatoworks.com
SUMMARY:Massage Therapist
DESCRIPTION:To book an appointment call 306-539-4663 \nCash or Cheque only
URL:https://southey.osatoworks.com/event/massage-therapist-16/
CATEGORIES:Health Services,Rec Board Events/Community Calendar
END:VEVENT
BEGIN:VEVENT
DTSTART;TZID=America/Regina:20151124T093000
DTEND;TZID=America/Regina:20151124T150000
DTSTAMP:20260421T234827
CREATED:20151028T162603Z
LAST-MODIFIED:20151028T162603Z
UID:1682-1448357400-1448377200@southey.osatoworks.com
SUMMARY:Nurse Practitioner
DESCRIPTION:To book an appointment please call 1-855-766-6399
URL:https://southey.osatoworks.com/event/nurse-practitioner-110/
CATEGORIES:Health Services,Rec Board Events/Community Calendar
END:VEVENT
BEGIN:VEVENT
DTSTART;TZID=America/Regina:20151125T093000
DTEND;TZID=America/Regina:20151125T160000
DTSTAMP:20260421T234827
CREATED:20151104T142349Z
LAST-MODIFIED:20151104T142349Z
UID:1692-1448443800-1448467200@southey.osatoworks.com
SUMMARY:Massage Therapist
DESCRIPTION:To book an appointment call 306-539-4663 \nCash or Cheque only
URL:https://southey.osatoworks.com/event/massage-therapist-17/
CATEGORIES:Health Services,Rec Board Events/Community Calendar
END:VEVENT
BEGIN:VEVENT
DTSTART;TZID=America/Regina:20151127T093000
DTEND;TZID=America/Regina:20151127T150000
DTSTAMP:20260421T234827
CREATED:20151028T162635Z
LAST-MODIFIED:20151028T162635Z
UID:1683-1448616600-1448636400@southey.osatoworks.com
SUMMARY:Nurse Practitioner
DESCRIPTION:To book an appointment please call 1-855-766-6399
URL:https://southey.osatoworks.com/event/nurse-practitioner-111/
CATEGORIES:Health Services,Rec Board Events/Community Calendar
END:VEVENT
END:VCALENDAR