BEGIN:VCALENDAR
VERSION:2.0
PRODID:-//Town of Southey - ECPv6.1.3//NONSGML v1.0//EN
CALSCALE:GREGORIAN
METHOD:PUBLISH
X-ORIGINAL-URL:https://southey.osatoworks.com
X-WR-CALDESC:Events for Town of Southey
REFRESH-INTERVAL;VALUE=DURATION:PT1H
X-Robots-Tag:noindex
X-PUBLISHED-TTL:PT1H
BEGIN:VTIMEZONE
TZID:America/Regina
BEGIN:STANDARD
TZOFFSETFROM:-0600
TZOFFSETTO:-0600
TZNAME:CST
DTSTART:20160101T000000
END:STANDARD
END:VTIMEZONE
BEGIN:VEVENT
DTSTART;VALUE=DATE:20160902
DTEND;VALUE=DATE:20160903
DTSTAMP:20260421T021347
CREATED:20160826T153634Z
LAST-MODIFIED:20160826T153634Z
UID:2113-1472774400-1472860799@southey.osatoworks.com
SUMMARY:Nurse Practitioner
DESCRIPTION:To book an appointment with the Nurse Practitioner please call 1-855-766-6399
URL:https://southey.osatoworks.com/event/nurse-practitioner-152/
CATEGORIES:Health Services,Rec Board Events/Community Calendar
END:VEVENT
BEGIN:VEVENT
DTSTART;TZID=America/Regina:20160902T073000
DTEND;TZID=America/Regina:20160902T100000
DTSTAMP:20260421T021347
CREATED:20160826T153140Z
LAST-MODIFIED:20160826T153140Z
UID:2101-1472801400-1472810400@southey.osatoworks.com
SUMMARY:Lab Services
DESCRIPTION:
URL:https://southey.osatoworks.com/event/lab-services-11/
CATEGORIES:Health Services,Rec Board Events/Community Calendar
END:VEVENT
BEGIN:VEVENT
DTSTART;VALUE=DATE:20160906
DTEND;VALUE=DATE:20160907
DTSTAMP:20260421T021347
CREATED:20160826T153703Z
LAST-MODIFIED:20160826T153703Z
UID:2115-1473120000-1473206399@southey.osatoworks.com
SUMMARY:Nurse Practitioner
DESCRIPTION:To book an appointment with the Nurse Practitioner please call 1-855-766-6399
URL:https://southey.osatoworks.com/event/nurse-practitioner-153/
CATEGORIES:Health Services,Rec Board Events/Community Calendar
END:VEVENT
BEGIN:VEVENT
DTSTART;TZID=America/Regina:20160909T073000
DTEND;TZID=America/Regina:20160909T100000
DTSTAMP:20260421T021347
CREATED:20160826T153240Z
LAST-MODIFIED:20160826T153240Z
UID:2103-1473406200-1473415200@southey.osatoworks.com
SUMMARY:Lab Services
DESCRIPTION:Please have your requisition and Health card.  Walk ins only.
URL:https://southey.osatoworks.com/event/lab-services-12/
CATEGORIES:Health Services,Rec Board Events/Community Calendar
END:VEVENT
BEGIN:VEVENT
DTSTART;VALUE=DATE:20160913
DTEND;VALUE=DATE:20160914
DTSTAMP:20260421T021347
CREATED:20160826T153740Z
LAST-MODIFIED:20160826T153740Z
UID:2117-1473724800-1473811199@southey.osatoworks.com
SUMMARY:Nurse Practitioner
DESCRIPTION:To book an appointment with the Nurse Practitioner please call 1-855-766-6399
URL:https://southey.osatoworks.com/event/nurse-practitioner-154/
CATEGORIES:Health Services,Rec Board Events/Community Calendar
END:VEVENT
BEGIN:VEVENT
DTSTART;VALUE=DATE:20160916
DTEND;VALUE=DATE:20160917
DTSTAMP:20260421T021347
CREATED:20160826T153307Z
LAST-MODIFIED:20160826T153900Z
UID:2105-1473984000-1474070399@southey.osatoworks.com
SUMMARY:Nurse Practitioner
DESCRIPTION:To book an appointment with the Nurse Practitioner please call 1-855-766-6399
URL:https://southey.osatoworks.com/event/lab-services-13/
CATEGORIES:Health Services,Rec Board Events/Community Calendar
END:VEVENT
BEGIN:VEVENT
DTSTART;TZID=America/Regina:20160916T073000
DTEND;TZID=America/Regina:20160916T110000
DTSTAMP:20260421T021347
CREATED:20160826T153401Z
LAST-MODIFIED:20160826T153401Z
UID:2107-1474011000-1474023600@southey.osatoworks.com
SUMMARY:Lab Services
DESCRIPTION:Please have your requisition and Health card.  Walk ins only.
URL:https://southey.osatoworks.com/event/lab-services-14/
CATEGORIES:Health Services,Rec Board Events/Community Calendar
END:VEVENT
BEGIN:VEVENT
DTSTART;VALUE=DATE:20160923
DTEND;VALUE=DATE:20160924
DTSTAMP:20260421T021347
CREATED:20160826T153928Z
LAST-MODIFIED:20160826T153928Z
UID:2120-1474588800-1474675199@southey.osatoworks.com
SUMMARY:Nurse Practitioner
DESCRIPTION:To book an appointment with the Nurse Practitioner please call 1-855-766-6399
URL:https://southey.osatoworks.com/event/nurse-practitioner-155/
CATEGORIES:Health Services,Rec Board Events/Community Calendar
END:VEVENT
BEGIN:VEVENT
DTSTART;TZID=America/Regina:20160923T073000
DTEND;TZID=America/Regina:20160923T100000
DTSTAMP:20260421T021347
CREATED:20160826T153439Z
LAST-MODIFIED:20160826T153439Z
UID:2109-1474615800-1474624800@southey.osatoworks.com
SUMMARY:Lab Services
DESCRIPTION:Please have your requisition and Health card.  Walk ins only.
URL:https://southey.osatoworks.com/event/lab-services-15/
CATEGORIES:Health Services,Rec Board Events/Community Calendar
END:VEVENT
BEGIN:VEVENT
DTSTART;VALUE=DATE:20160927
DTEND;VALUE=DATE:20160928
DTSTAMP:20260421T021347
CREATED:20160826T153952Z
LAST-MODIFIED:20160826T153952Z
UID:2122-1474934400-1475020799@southey.osatoworks.com
SUMMARY:Nurse Practitioner
DESCRIPTION:To book an appointment with the Nurse Practitioner please call 1-855-766-6399
URL:https://southey.osatoworks.com/event/nurse-practitioner-156/
CATEGORIES:Health Services,Rec Board Events/Community Calendar
END:VEVENT
BEGIN:VEVENT
DTSTART;TZID=America/Regina:20160930T073000
DTEND;TZID=America/Regina:20160930T100000
DTSTAMP:20260421T021347
CREATED:20160826T153510Z
LAST-MODIFIED:20160826T153510Z
UID:2111-1475220600-1475229600@southey.osatoworks.com
SUMMARY:Lab Services
DESCRIPTION:Please have your requisition and Health card.  Walk ins only.
URL:https://southey.osatoworks.com/event/lab-services-16/
CATEGORIES:Health Services,Rec Board Events/Community Calendar
END:VEVENT
BEGIN:VEVENT
DTSTART;TZID=America/Regina:20160930T093000
DTEND;TZID=America/Regina:20160930T150000
DTSTAMP:20260421T021347
CREATED:20160920T173230Z
LAST-MODIFIED:20160920T173230Z
UID:2148-1475227800-1475247600@southey.osatoworks.com
SUMMARY:Nurse Practitioner
DESCRIPTION:To book an appointment with the Nurse Practitioner please call 1-855-766-6399
URL:https://southey.osatoworks.com/event/nurse-practitioner-157/
CATEGORIES:Health Services,Rec Board Events/Community Calendar
END:VEVENT
END:VCALENDAR