BEGIN:VCALENDAR
VERSION:2.0
PRODID:-//Town of Southey - ECPv6.1.3//NONSGML v1.0//EN
CALSCALE:GREGORIAN
METHOD:PUBLISH
X-ORIGINAL-URL:https://southey.osatoworks.com
X-WR-CALDESC:Events for Town of Southey
REFRESH-INTERVAL;VALUE=DURATION:PT1H
X-Robots-Tag:noindex
X-PUBLISHED-TTL:PT1H
BEGIN:VTIMEZONE
TZID:America/Regina
BEGIN:STANDARD
TZOFFSETFROM:-0600
TZOFFSETTO:-0600
TZNAME:CST
DTSTART:20160101T000000
END:STANDARD
END:VTIMEZONE
BEGIN:VEVENT
DTSTART;TZID=America/Regina:20161103T093000
DTEND;TZID=America/Regina:20161103T150000
DTSTAMP:20260420T130929
CREATED:20161102T160344Z
LAST-MODIFIED:20161102T160344Z
UID:2226-1478165400-1478185200@southey.osatoworks.com
SUMMARY:Influenza Clinic
DESCRIPTION:Thursday Nov 3 9:30am to 11:45am and 1pm-3pm at Southey Senior Centre.  Drop in only
URL:https://southey.osatoworks.com/event/influenza-clinic/
CATEGORIES:Health Services,Rec Board Events/Community Calendar
END:VEVENT
BEGIN:VEVENT
DTSTART;TZID=America/Regina:20161104T073000
DTEND;TZID=America/Regina:20161104T100000
DTSTAMP:20260420T130929
CREATED:20161102T161900Z
LAST-MODIFIED:20161102T161900Z
UID:2252-1478244600-1478253600@southey.osatoworks.com
SUMMARY:Lab Services
DESCRIPTION:Drop in only at Southey Health Action Centre.  Please bring your requisition and Health Card
URL:https://southey.osatoworks.com/event/lab-services-21/
CATEGORIES:Health Services,Rec Board Events/Community Calendar
END:VEVENT
BEGIN:VEVENT
DTSTART;TZID=America/Regina:20161104T093000
DTEND;TZID=America/Regina:20161104T150000
DTSTAMP:20260420T130929
CREATED:20161102T162120Z
LAST-MODIFIED:20161102T162120Z
UID:2260-1478251800-1478271600@southey.osatoworks.com
SUMMARY:Nurse Practitioner
DESCRIPTION:To book an appointment with the nurse practitioner please call 1-855-766-6399
URL:https://southey.osatoworks.com/event/nurse-practitioner-165/
CATEGORIES:Health Services,Rec Board Events/Community Calendar
END:VEVENT
BEGIN:VEVENT
DTSTART;TZID=America/Regina:20161108T093000
DTEND;TZID=America/Regina:20161108T150000
DTSTAMP:20260420T130929
CREATED:20161102T162150Z
LAST-MODIFIED:20161102T162150Z
UID:2262-1478597400-1478617200@southey.osatoworks.com
SUMMARY:Nurse Practitioner
DESCRIPTION:To book an appointment with the nurse practitioner please call 1-855-766-6399
URL:https://southey.osatoworks.com/event/nurse-practitioner-166/
CATEGORIES:Health Services,Rec Board Events/Community Calendar
END:VEVENT
BEGIN:VEVENT
DTSTART;TZID=America/Regina:20161111T073000
DTEND;TZID=America/Regina:20161111T100000
DTSTAMP:20260420T130929
CREATED:20161102T161927Z
LAST-MODIFIED:20161102T161927Z
UID:2254-1478849400-1478858400@southey.osatoworks.com
SUMMARY:Lab Services
DESCRIPTION:Drop in only at Southey Health Action Centre.  Please bring your requisition and Health Card
URL:https://southey.osatoworks.com/event/lab-services-22/
CATEGORIES:Health Services,Rec Board Events/Community Calendar
END:VEVENT
BEGIN:VEVENT
DTSTART;TZID=America/Regina:20161115T093000
DTEND;TZID=America/Regina:20161115T150000
DTSTAMP:20260420T130929
CREATED:20161102T162214Z
LAST-MODIFIED:20161102T162214Z
UID:2264-1479202200-1479222000@southey.osatoworks.com
SUMMARY:Nurse Practitioner
DESCRIPTION:To book an appointment with the nurse practitioner please call 1-855-766-6399
URL:https://southey.osatoworks.com/event/nurse-practitioner-167/
CATEGORIES:Health Services,Rec Board Events/Community Calendar
END:VEVENT
BEGIN:VEVENT
DTSTART;TZID=America/Regina:20161118T073000
DTEND;TZID=America/Regina:20161118T100000
DTSTAMP:20260420T130929
CREATED:20161102T161955Z
LAST-MODIFIED:20161102T161955Z
UID:2256-1479454200-1479463200@southey.osatoworks.com
SUMMARY:Lab Services
DESCRIPTION:Drop in only at Southey Health Action Centre.  Please bring your requisition and Health Card
URL:https://southey.osatoworks.com/event/lab-services-23/
CATEGORIES:Health Services,Rec Board Events/Community Calendar
END:VEVENT
BEGIN:VEVENT
DTSTART;TZID=America/Regina:20161118T093000
DTEND;TZID=America/Regina:20161118T150000
DTSTAMP:20260420T130929
CREATED:20161102T162241Z
LAST-MODIFIED:20161102T162241Z
UID:2266-1479461400-1479481200@southey.osatoworks.com
SUMMARY:Nurse Practitioner
DESCRIPTION:To book an appointment with the nurse practitioner please call 1-855-766-6399
URL:https://southey.osatoworks.com/event/nurse-practitioner-168/
CATEGORIES:Health Services,Rec Board Events/Community Calendar
END:VEVENT
BEGIN:VEVENT
DTSTART;TZID=America/Regina:20161122T093000
DTEND;TZID=America/Regina:20161122T150000
DTSTAMP:20260420T130929
CREATED:20161102T162309Z
LAST-MODIFIED:20161102T162309Z
UID:2268-1479807000-1479826800@southey.osatoworks.com
SUMMARY:Nurse Practitioner
DESCRIPTION:To book an appointment with the nurse practitioner please call 1-855-766-6399
URL:https://southey.osatoworks.com/event/nurse-practitioner-169/
CATEGORIES:Health Services,Rec Board Events/Community Calendar
END:VEVENT
BEGIN:VEVENT
DTSTART;TZID=America/Regina:20161125T073000
DTEND;TZID=America/Regina:20161125T100000
DTSTAMP:20260420T130929
CREATED:20161102T162024Z
LAST-MODIFIED:20161102T162024Z
UID:2258-1480059000-1480068000@southey.osatoworks.com
SUMMARY:Lab Services
DESCRIPTION:Drop in only at Southey Health Action Centre.  Please bring your requisition and Health Card
URL:https://southey.osatoworks.com/event/lab-services-24/
CATEGORIES:Health Services,Rec Board Events/Community Calendar
END:VEVENT
BEGIN:VEVENT
DTSTART;TZID=America/Regina:20161129T093000
DTEND;TZID=America/Regina:20161129T150000
DTSTAMP:20260420T130929
CREATED:20161102T162334Z
LAST-MODIFIED:20161102T162334Z
UID:2270-1480411800-1480431600@southey.osatoworks.com
SUMMARY:Nurse Practitioner
DESCRIPTION:To book an appointment with the nurse practitioner please call 1-855-766-6399
URL:https://southey.osatoworks.com/event/nurse-practitioner-170/
CATEGORIES:Health Services,Rec Board Events/Community Calendar
END:VEVENT
END:VCALENDAR