BEGIN:VCALENDAR
VERSION:2.0
PRODID:-//Town of Southey - ECPv6.1.3//NONSGML v1.0//EN
CALSCALE:GREGORIAN
METHOD:PUBLISH
X-ORIGINAL-URL:https://southey.osatoworks.com
X-WR-CALDESC:Events for Town of Southey
REFRESH-INTERVAL;VALUE=DURATION:PT1H
X-Robots-Tag:noindex
X-PUBLISHED-TTL:PT1H
BEGIN:VTIMEZONE
TZID:America/Regina
BEGIN:STANDARD
TZOFFSETFROM:-0600
TZOFFSETTO:-0600
TZNAME:CST
DTSTART:20170101T000000
END:STANDARD
END:VTIMEZONE
BEGIN:VEVENT
DTSTART;VALUE=DATE:20170102
DTEND;VALUE=DATE:20170103
DTSTAMP:20260420T101128
CREATED:20161228T152300Z
LAST-MODIFIED:20161228T152300Z
UID:2363-1483315200-1483401599@southey.osatoworks.com
SUMMARY:Town Office Closed for New Years day Stat
DESCRIPTION:
URL:https://southey.osatoworks.com/event/town-office-closed-for-new-years-day-stat/
CATEGORIES:Health Services,Rec Board Events/Community Calendar
END:VEVENT
BEGIN:VEVENT
DTSTART;TZID=America/Regina:20170103T090000
DTEND;TZID=America/Regina:20170103T153000
DTSTAMP:20260420T101128
CREATED:20161228T153202Z
LAST-MODIFIED:20161228T153202Z
UID:2383-1483434000-1483457400@southey.osatoworks.com
SUMMARY:Nurse Practitioner
DESCRIPTION:To Book an appointment with the Nurse Practitioner please call 1-855-766-6399
URL:https://southey.osatoworks.com/event/nurse-practitioner-171/
CATEGORIES:Health Services,Rec Board Events/Community Calendar
END:VEVENT
BEGIN:VEVENT
DTSTART;TZID=America/Regina:20170106T073000
DTEND;TZID=America/Regina:20170106T100000
DTSTAMP:20260420T101128
CREATED:20161228T153854Z
LAST-MODIFIED:20161228T153854Z
UID:2401-1483687800-1483696800@southey.osatoworks.com
SUMMARY:Lab Services
DESCRIPTION:Walk ins only \nPlease bring health card and requisition with you \nLocation: Southey Health Centre
URL:https://southey.osatoworks.com/event/lab-services-30/
CATEGORIES:Health Services,Rec Board Events/Community Calendar
END:VEVENT
BEGIN:VEVENT
DTSTART;TZID=America/Regina:20170106T090000
DTEND;TZID=America/Regina:20170106T153000
DTSTAMP:20260420T101128
CREATED:20161228T153242Z
LAST-MODIFIED:20161228T153242Z
UID:2385-1483693200-1483716600@southey.osatoworks.com
SUMMARY:Nurse Practitioner
DESCRIPTION:To Book an appointment with the Nurse Practitioner please call 1-855-766-6399
URL:https://southey.osatoworks.com/event/nurse-practitioner-172/
CATEGORIES:Health Services,Rec Board Events/Community Calendar
END:VEVENT
BEGIN:VEVENT
DTSTART;TZID=America/Regina:20170110T080000
DTEND;TZID=America/Regina:20170110T170000
DTSTAMP:20260420T101128
CREATED:20161228T153321Z
LAST-MODIFIED:20161228T153321Z
UID:2387-1484035200-1484067600@southey.osatoworks.com
SUMMARY:Nurse Practitioner
DESCRIPTION:To Book an appointment with the Nurse Practitioner please call 1-855-766-6399
URL:https://southey.osatoworks.com/event/nurse-practitioner-173/
CATEGORIES:Health Services,Rec Board Events/Community Calendar
END:VEVENT
BEGIN:VEVENT
DTSTART;TZID=America/Regina:20170113T073000
DTEND;TZID=America/Regina:20170113T100000
DTSTAMP:20260420T101128
CREATED:20161228T154246Z
LAST-MODIFIED:20161228T154246Z
UID:2403-1484292600-1484301600@southey.osatoworks.com
SUMMARY:Lab Services
DESCRIPTION:Walk ins only \nPlease bring health card and requisition with you \nLocation: Southey Health Centre
URL:https://southey.osatoworks.com/event/lab-services-31/
CATEGORIES:Health Services,Rec Board Events/Community Calendar
END:VEVENT
BEGIN:VEVENT
DTSTART;TZID=America/Regina:20170113T080000
DTEND;TZID=America/Regina:20170113T153000
DTSTAMP:20260420T101128
CREATED:20161228T153355Z
LAST-MODIFIED:20161228T153355Z
UID:2389-1484294400-1484321400@southey.osatoworks.com
SUMMARY:Nurse Practitioner
DESCRIPTION:To Book an appointment with the Nurse Practitioner please call 1-855-766-6399
URL:https://southey.osatoworks.com/event/nurse-practitioner-174/
CATEGORIES:Health Services,Rec Board Events/Community Calendar
END:VEVENT
BEGIN:VEVENT
DTSTART;TZID=America/Regina:20170117T090000
DTEND;TZID=America/Regina:20170117T153000
DTSTAMP:20260420T101128
CREATED:20161228T153431Z
LAST-MODIFIED:20161228T153431Z
UID:2391-1484643600-1484667000@southey.osatoworks.com
SUMMARY:Nurse Practitioner
DESCRIPTION:To Book an appointment with the Nurse Practitioner please call 1-855-766-6399
URL:https://southey.osatoworks.com/event/nurse-practitioner-175/
CATEGORIES:Health Services,Rec Board Events/Community Calendar
END:VEVENT
BEGIN:VEVENT
DTSTART;TZID=America/Regina:20170120T073000
DTEND;TZID=America/Regina:20170120T100000
DTSTAMP:20260420T101128
CREATED:20161228T154342Z
LAST-MODIFIED:20161228T154342Z
UID:2405-1484897400-1484906400@southey.osatoworks.com
SUMMARY:Lab Services
DESCRIPTION:Walk ins only \nPlease bring health card and requisition with you \nLocation: Southey Health Centre
URL:https://southey.osatoworks.com/event/lab-services-32/
CATEGORIES:Health Services,Rec Board Events/Community Calendar
END:VEVENT
BEGIN:VEVENT
DTSTART;TZID=America/Regina:20170120T090000
DTEND;TZID=America/Regina:20170120T153000
DTSTAMP:20260420T101128
CREATED:20161228T153525Z
LAST-MODIFIED:20161228T153525Z
UID:2393-1484902800-1484926200@southey.osatoworks.com
SUMMARY:Nurse Practitioner
DESCRIPTION:To Book an appointment with the Nurse Practitioner please call 1-855-766-6399
URL:https://southey.osatoworks.com/event/nurse-practitioner-176/
CATEGORIES:Health Services,Rec Board Events/Community Calendar
END:VEVENT
BEGIN:VEVENT
DTSTART;TZID=America/Regina:20170124T090000
DTEND;TZID=America/Regina:20170124T153000
DTSTAMP:20260420T101128
CREATED:20161228T153600Z
LAST-MODIFIED:20161228T153600Z
UID:2395-1485248400-1485271800@southey.osatoworks.com
SUMMARY:Nurse Practitioner
DESCRIPTION:To Book an appointment with the Nurse Practitioner please call 1-855-766-6399
URL:https://southey.osatoworks.com/event/nurse-practitioner-177/
CATEGORIES:Health Services,Rec Board Events/Community Calendar
END:VEVENT
BEGIN:VEVENT
DTSTART;TZID=America/Regina:20170127T073000
DTEND;TZID=America/Regina:20170127T100000
DTSTAMP:20260420T101128
CREATED:20161228T154415Z
LAST-MODIFIED:20161228T154415Z
UID:2407-1485502200-1485511200@southey.osatoworks.com
SUMMARY:Lab Services
DESCRIPTION:Walk ins only \nPlease bring health card and requisition with you \nLocation: Southey Health Centre
URL:https://southey.osatoworks.com/event/lab-services-33/
CATEGORIES:Health Services,Rec Board Events/Community Calendar
END:VEVENT
BEGIN:VEVENT
DTSTART;TZID=America/Regina:20170127T090000
DTEND;TZID=America/Regina:20170127T153000
DTSTAMP:20260420T101128
CREATED:20161228T153632Z
LAST-MODIFIED:20161228T153632Z
UID:2397-1485507600-1485531000@southey.osatoworks.com
SUMMARY:Nurse Practitioner
DESCRIPTION:To Book an appointment with the Nurse Practitioner please call 1-855-766-6399
URL:https://southey.osatoworks.com/event/nurse-practitioner-178/
CATEGORIES:Health Services,Rec Board Events/Community Calendar
END:VEVENT
BEGIN:VEVENT
DTSTART;TZID=America/Regina:20170131T090000
DTEND;TZID=America/Regina:20170131T153000
DTSTAMP:20260420T101128
CREATED:20161228T153718Z
LAST-MODIFIED:20161228T153718Z
UID:2399-1485853200-1485876600@southey.osatoworks.com
SUMMARY:Nurse Practitioner
DESCRIPTION:To Book an appointment with the Nurse Practitioner please call 1-855-766-6399
URL:https://southey.osatoworks.com/event/nurse-practitioner-179/
CATEGORIES:Health Services,Rec Board Events/Community Calendar
END:VEVENT
END:VCALENDAR