BEGIN:VCALENDAR
VERSION:2.0
PRODID:-//Town of Southey - ECPv6.1.3//NONSGML v1.0//EN
CALSCALE:GREGORIAN
METHOD:PUBLISH
X-WR-CALNAME:Town of Southey
X-ORIGINAL-URL:https://southey.osatoworks.com
X-WR-CALDESC:Events for Town of Southey
REFRESH-INTERVAL;VALUE=DURATION:PT1H
X-Robots-Tag:noindex
X-PUBLISHED-TTL:PT1H
BEGIN:VTIMEZONE
TZID:America/Regina
BEGIN:STANDARD
TZOFFSETFROM:-0600
TZOFFSETTO:-0600
TZNAME:CST
DTSTART:20170101T000000
END:STANDARD
END:VTIMEZONE
BEGIN:VEVENT
DTSTART;TZID=America/Regina:20170307T093000
DTEND;TZID=America/Regina:20170307T153000
DTSTAMP:20260420T062832
CREATED:20170306T170530Z
LAST-MODIFIED:20170306T170530Z
UID:2431-1488879000-1488900600@southey.osatoworks.com
SUMMARY:Nurse Practitioner
DESCRIPTION:To book an appointment with the nurse practitioner please call 1-855-766-6399
URL:https://southey.osatoworks.com/event/nurse-practitioner-180/
CATEGORIES:Health Services,Rec Board Events/Community Calendar
END:VEVENT
BEGIN:VEVENT
DTSTART;TZID=America/Regina:20170310T073000
DTEND;TZID=America/Regina:20170310T100000
DTSTAMP:20260420T062832
CREATED:20170306T171453Z
LAST-MODIFIED:20170306T171453Z
UID:2447-1489131000-1489140000@southey.osatoworks.com
SUMMARY:Lab Services
DESCRIPTION:Lab Services are at the Health Centre and are walk in only.  Bring requisition and health card.
URL:https://southey.osatoworks.com/event/lab-services-34/
CATEGORIES:Health Services,Rec Board Events/Community Calendar
END:VEVENT
BEGIN:VEVENT
DTSTART;TZID=America/Regina:20170310T093000
DTEND;TZID=America/Regina:20170310T153000
DTSTAMP:20260420T062832
CREATED:20170306T170601Z
LAST-MODIFIED:20170306T170601Z
UID:2433-1489138200-1489159800@southey.osatoworks.com
SUMMARY:Nurse Practitioner
DESCRIPTION:To book an appointment with the nurse practitioner please call 1-855-766-6399
URL:https://southey.osatoworks.com/event/nurse-practitioner-181/
CATEGORIES:Health Services,Rec Board Events/Community Calendar
END:VEVENT
BEGIN:VEVENT
DTSTART;TZID=America/Regina:20170314T093000
DTEND;TZID=America/Regina:20170314T153000
DTSTAMP:20260420T062832
CREATED:20170306T170628Z
LAST-MODIFIED:20170306T170628Z
UID:2435-1489483800-1489505400@southey.osatoworks.com
SUMMARY:Nurse Practitioner
DESCRIPTION:To book an appointment with the nurse practitioner please call 1-855-766-6399
URL:https://southey.osatoworks.com/event/nurse-practitioner-182/
CATEGORIES:Health Services,Rec Board Events/Community Calendar
END:VEVENT
BEGIN:VEVENT
DTSTART;TZID=America/Regina:20170317T073000
DTEND;TZID=America/Regina:20170317T100000
DTSTAMP:20260420T062832
CREATED:20170306T171515Z
LAST-MODIFIED:20170306T171515Z
UID:2449-1489735800-1489744800@southey.osatoworks.com
SUMMARY:Lab Services
DESCRIPTION:Lab Services are at the Health Centre and are walk in only.  Bring requisition and health card.
URL:https://southey.osatoworks.com/event/lab-services-35/
CATEGORIES:Health Services,Rec Board Events/Community Calendar
END:VEVENT
BEGIN:VEVENT
DTSTART;TZID=America/Regina:20170321T093000
DTEND;TZID=America/Regina:20170321T153000
DTSTAMP:20260420T062832
CREATED:20170306T170733Z
LAST-MODIFIED:20170306T170733Z
UID:2439-1490088600-1490110200@southey.osatoworks.com
SUMMARY:Nurse Practitioner
DESCRIPTION:To book an appointment with the nurse practitioner please call 1-855-766-6399
URL:https://southey.osatoworks.com/event/nurse-practitioner-184/
CATEGORIES:Health Services,Rec Board Events/Community Calendar
END:VEVENT
BEGIN:VEVENT
DTSTART;TZID=America/Regina:20170324T073000
DTEND;TZID=America/Regina:20170324T100000
DTSTAMP:20260420T062832
CREATED:20170306T171542Z
LAST-MODIFIED:20170306T171542Z
UID:2451-1490340600-1490349600@southey.osatoworks.com
SUMMARY:Lab Services
DESCRIPTION:Lab Services are at the Health Centre and are walk in only.  Bring requisition and health card.
URL:https://southey.osatoworks.com/event/lab-services-36/
CATEGORIES:Health Services,Rec Board Events/Community Calendar
END:VEVENT
BEGIN:VEVENT
DTSTART;TZID=America/Regina:20170324T093000
DTEND;TZID=America/Regina:20170324T153000
DTSTAMP:20260420T062832
CREATED:20170306T171020Z
LAST-MODIFIED:20170306T171020Z
UID:2441-1490347800-1490369400@southey.osatoworks.com
SUMMARY:Nurse Practitioner
DESCRIPTION:To book an appointment with the nurse practitioner please call 1-855-766-6399
URL:https://southey.osatoworks.com/event/nurse-practitioner-183/
CATEGORIES:Health Services,Rec Board Events/Community Calendar
END:VEVENT
BEGIN:VEVENT
DTSTART;TZID=America/Regina:20170328T093000
DTEND;TZID=America/Regina:20170328T153000
DTSTAMP:20260420T062832
CREATED:20170306T171212Z
LAST-MODIFIED:20170306T171212Z
UID:2443-1490693400-1490715000@southey.osatoworks.com
SUMMARY:Nurse Practitioner
DESCRIPTION:To book an appointment with the nurse practitioner please call 1-855-766-6399
URL:https://southey.osatoworks.com/event/nurse-practitioner-185/
CATEGORIES:Health Services,Rec Board Events/Community Calendar
END:VEVENT
BEGIN:VEVENT
DTSTART;TZID=America/Regina:20170331T073000
DTEND;TZID=America/Regina:20170331T100000
DTSTAMP:20260420T062832
CREATED:20170306T171805Z
LAST-MODIFIED:20170306T171805Z
UID:2453-1490945400-1490954400@southey.osatoworks.com
SUMMARY:Lab Services
DESCRIPTION:Lab Services are at the Health Centre and are walk in only.  Bring requisition and health card.
URL:https://southey.osatoworks.com/event/lab-services-37/
CATEGORIES:Health Services,Rec Board Events/Community Calendar
END:VEVENT
BEGIN:VEVENT
DTSTART;TZID=America/Regina:20170331T093000
DTEND;TZID=America/Regina:20170331T153000
DTSTAMP:20260420T062832
CREATED:20170306T171239Z
LAST-MODIFIED:20170306T171239Z
UID:2445-1490952600-1490974200@southey.osatoworks.com
SUMMARY:Nurse Practitioner
DESCRIPTION:To book an appointment with the nurse practitioner please call 1-855-766-6399
URL:https://southey.osatoworks.com/event/nurse-practitioner-186/
CATEGORIES:Health Services,Rec Board Events/Community Calendar
END:VEVENT
END:VCALENDAR