BEGIN:VCALENDAR
VERSION:2.0
PRODID:-//Town of Southey - ECPv6.1.3//NONSGML v1.0//EN
CALSCALE:GREGORIAN
METHOD:PUBLISH
X-WR-CALNAME:Town of Southey
X-ORIGINAL-URL:https://southey.osatoworks.com
X-WR-CALDESC:Events for Town of Southey
REFRESH-INTERVAL;VALUE=DURATION:PT1H
X-Robots-Tag:noindex
X-PUBLISHED-TTL:PT1H
BEGIN:VTIMEZONE
TZID:America/Regina
BEGIN:STANDARD
TZOFFSETFROM:-0600
TZOFFSETTO:-0600
TZNAME:CST
DTSTART:20170101T000000
END:STANDARD
END:VTIMEZONE
BEGIN:VEVENT
DTSTART;TZID=America/Regina:20170404T090000
DTEND;TZID=America/Regina:20170404T150000
DTSTAMP:20260420T045735
CREATED:20170503T142135Z
LAST-MODIFIED:20170503T142135Z
UID:2550-1491296400-1491318000@southey.osatoworks.com
SUMMARY:Nurse Practitioner
DESCRIPTION:To book an appointment with the Nurse Practitioner please call 1-855-766-6399
URL:https://southey.osatoworks.com/event/nurse-practitioner-194/
CATEGORIES:Health Services
END:VEVENT
BEGIN:VEVENT
DTSTART;TZID=America/Regina:20170411T090000
DTEND;TZID=America/Regina:20170411T150000
DTSTAMP:20260420T045735
CREATED:20170503T142203Z
LAST-MODIFIED:20170503T142203Z
UID:2552-1491901200-1491922800@southey.osatoworks.com
SUMMARY:Nurse Practitioner
DESCRIPTION:To book an appointment with the Nurse Practitioner please call 1-855-766-6399
URL:https://southey.osatoworks.com/event/nurse-practitioner-195/
CATEGORIES:Health Services
END:VEVENT
BEGIN:VEVENT
DTSTART;TZID=America/Regina:20170414T090000
DTEND;TZID=America/Regina:20170414T150000
DTSTAMP:20260420T045735
CREATED:20170503T142224Z
LAST-MODIFIED:20170503T142224Z
UID:2554-1492160400-1492182000@southey.osatoworks.com
SUMMARY:Nurse Practitioner
DESCRIPTION:To book an appointment with the Nurse Practitioner please call 1-855-766-6399
URL:https://southey.osatoworks.com/event/nurse-practitioner-196/
CATEGORIES:Health Services
END:VEVENT
END:VCALENDAR