BEGIN:VCALENDAR
VERSION:2.0
PRODID:-//Town of Southey - ECPv6.1.3//NONSGML v1.0//EN
CALSCALE:GREGORIAN
METHOD:PUBLISH
X-WR-CALNAME:Town of Southey
X-ORIGINAL-URL:https://southey.osatoworks.com
X-WR-CALDESC:Events for Town of Southey
REFRESH-INTERVAL;VALUE=DURATION:PT1H
X-Robots-Tag:noindex
X-PUBLISHED-TTL:PT1H
BEGIN:VTIMEZONE
TZID:America/Regina
BEGIN:STANDARD
TZOFFSETFROM:-0600
TZOFFSETTO:-0600
TZNAME:CST
DTSTART:20170101T000000
END:STANDARD
END:VTIMEZONE
BEGIN:VEVENT
DTSTART;TZID=America/Regina:20170602T073000
DTEND;TZID=America/Regina:20170602T100000
DTSTAMP:20260420T022401
CREATED:20170530T142636Z
LAST-MODIFIED:20170530T142636Z
UID:2579-1496388600-1496397600@southey.osatoworks.com
SUMMARY:Lab Services
DESCRIPTION:Walk in only.  Please have health card and requisition form with you.  Located in Health Centre
URL:https://southey.osatoworks.com/event/lab-services-41/
CATEGORIES:Health Services,Rec Board Events/Community Calendar
END:VEVENT
BEGIN:VEVENT
DTSTART;TZID=America/Regina:20170602T093000
DTEND;TZID=America/Regina:20170602T150000
DTSTAMP:20260420T022401
CREATED:20170530T142217Z
LAST-MODIFIED:20170530T142217Z
UID:2565-1496395800-1496415600@southey.osatoworks.com
SUMMARY:Nurse Practitioner
DESCRIPTION:To book an appointment with the Nurse Practitioner please call 1-855-766-6399
URL:https://southey.osatoworks.com/event/nurse-practitioner-197/
CATEGORIES:Health Services,Rec Board Events/Community Calendar
END:VEVENT
BEGIN:VEVENT
DTSTART;TZID=America/Regina:20170606T093000
DTEND;TZID=America/Regina:20170606T150000
DTSTAMP:20260420T022401
CREATED:20170530T142244Z
LAST-MODIFIED:20170530T142244Z
UID:2567-1496741400-1496761200@southey.osatoworks.com
SUMMARY:Nurse Practitioner
DESCRIPTION:To book an appointment with the Nurse Practitioner please call 1-855-766-6399
URL:https://southey.osatoworks.com/event/nurse-practitioner-198/
CATEGORIES:Health Services,Rec Board Events/Community Calendar
END:VEVENT
BEGIN:VEVENT
DTSTART;TZID=America/Regina:20170609T073000
DTEND;TZID=America/Regina:20170609T100000
DTSTAMP:20260420T022401
CREATED:20170530T142735Z
LAST-MODIFIED:20170530T142735Z
UID:2581-1496993400-1497002400@southey.osatoworks.com
SUMMARY:Lab Services
DESCRIPTION:Walk in only.  Please have health card and requisition form with you.  Located in Health Centre
URL:https://southey.osatoworks.com/event/lab-services-42/
CATEGORIES:Health Services,Rec Board Events/Community Calendar
END:VEVENT
BEGIN:VEVENT
DTSTART;TZID=America/Regina:20170613T093000
DTEND;TZID=America/Regina:20170613T150000
DTSTAMP:20260420T022401
CREATED:20170530T142308Z
LAST-MODIFIED:20170530T142308Z
UID:2569-1497346200-1497366000@southey.osatoworks.com
SUMMARY:Nurse Practitioner
DESCRIPTION:To book an appointment with the Nurse Practitioner please call 1-855-766-6399
URL:https://southey.osatoworks.com/event/nurse-practitioner-199/
CATEGORIES:Health Services,Rec Board Events/Community Calendar
END:VEVENT
BEGIN:VEVENT
DTSTART;TZID=America/Regina:20170616T073000
DTEND;TZID=America/Regina:20170616T100000
DTSTAMP:20260420T022401
CREATED:20170530T142759Z
LAST-MODIFIED:20170530T142759Z
UID:2583-1497598200-1497607200@southey.osatoworks.com
SUMMARY:Lab Services
DESCRIPTION:Walk in only.  Please have health card and requisition form with you.  Located in Health Centre
URL:https://southey.osatoworks.com/event/lab-services-43/
CATEGORIES:Health Services,Rec Board Events/Community Calendar
END:VEVENT
BEGIN:VEVENT
DTSTART;TZID=America/Regina:20170616T093000
DTEND;TZID=America/Regina:20170616T150000
DTSTAMP:20260420T022401
CREATED:20170530T142419Z
LAST-MODIFIED:20170530T142419Z
UID:2571-1497605400-1497625200@southey.osatoworks.com
SUMMARY:Nurse Practitioner
DESCRIPTION:To book an appointment with the Nurse Practitioner please call 1-855-766-6399
URL:https://southey.osatoworks.com/event/nurse-practitioner-200/
CATEGORIES:Health Services,Rec Board Events/Community Calendar
END:VEVENT
BEGIN:VEVENT
DTSTART;VALUE=DATE:20170618
DTEND;VALUE=DATE:20170619
DTSTAMP:20260420T022401
CREATED:20170601T204645Z
LAST-MODIFIED:20170601T204645Z
UID:2610-1497744000-1497830399@southey.osatoworks.com
SUMMARY:Happy Father's Day
DESCRIPTION:
URL:https://southey.osatoworks.com/event/happy-fathers-day/
CATEGORIES:Health Services,Rec Board Events/Community Calendar
END:VEVENT
BEGIN:VEVENT
DTSTART;TZID=America/Regina:20170620T093000
DTEND;TZID=America/Regina:20170620T150000
DTSTAMP:20260420T022401
CREATED:20170530T142441Z
LAST-MODIFIED:20170530T142441Z
UID:2573-1497951000-1497970800@southey.osatoworks.com
SUMMARY:Nurse Practitioner
DESCRIPTION:To book an appointment with the Nurse Practitioner please call 1-855-766-6399
URL:https://southey.osatoworks.com/event/nurse-practitioner-201/
CATEGORIES:Health Services,Rec Board Events/Community Calendar
END:VEVENT
BEGIN:VEVENT
DTSTART;TZID=America/Regina:20170623T073000
DTEND;TZID=America/Regina:20170623T100000
DTSTAMP:20260420T022401
CREATED:20170530T142825Z
LAST-MODIFIED:20170530T142825Z
UID:2585-1498203000-1498212000@southey.osatoworks.com
SUMMARY:Lab Services
DESCRIPTION:Walk in only.  Please have health card and requisition form with you.  Located in Health Centre
URL:https://southey.osatoworks.com/event/lab-services-44/
CATEGORIES:Health Services,Rec Board Events/Community Calendar
END:VEVENT
BEGIN:VEVENT
DTSTART;TZID=America/Regina:20170623T093000
DTEND;TZID=America/Regina:20170623T150000
DTSTAMP:20260420T022401
CREATED:20170530T142507Z
LAST-MODIFIED:20170530T142507Z
UID:2575-1498210200-1498230000@southey.osatoworks.com
SUMMARY:Nurse Practitioner
DESCRIPTION:To book an appointment with the Nurse Practitioner please call 1-855-766-6399
URL:https://southey.osatoworks.com/event/nurse-practitioner-202/
CATEGORIES:Health Services,Rec Board Events/Community Calendar
END:VEVENT
BEGIN:VEVENT
DTSTART;TZID=America/Regina:20170627T093000
DTEND;TZID=America/Regina:20170627T150000
DTSTAMP:20260420T022401
CREATED:20170530T142532Z
LAST-MODIFIED:20170530T142532Z
UID:2577-1498555800-1498575600@southey.osatoworks.com
SUMMARY:Nurse Practitioner
DESCRIPTION:To book an appointment with the Nurse Practitioner please call 1-855-766-6399
URL:https://southey.osatoworks.com/event/nurse-practitioner-203/
CATEGORIES:Health Services,Rec Board Events/Community Calendar
END:VEVENT
BEGIN:VEVENT
DTSTART;TZID=America/Regina:20170630T073000
DTEND;TZID=America/Regina:20170630T100000
DTSTAMP:20260420T022401
CREATED:20170530T142852Z
LAST-MODIFIED:20170530T142852Z
UID:2587-1498807800-1498816800@southey.osatoworks.com
SUMMARY:Lab Services
DESCRIPTION:Walk in only.  Please have health card and requisition form with you.  Located in Health Centre
URL:https://southey.osatoworks.com/event/lab-services-45/
CATEGORIES:Health Services,Rec Board Events/Community Calendar
END:VEVENT
END:VCALENDAR