BEGIN:VCALENDAR
VERSION:2.0
PRODID:-//Town of Southey - ECPv6.1.3//NONSGML v1.0//EN
CALSCALE:GREGORIAN
METHOD:PUBLISH
X-ORIGINAL-URL:https://southey.osatoworks.com
X-WR-CALDESC:Events for Town of Southey
REFRESH-INTERVAL;VALUE=DURATION:PT1H
X-Robots-Tag:noindex
X-PUBLISHED-TTL:PT1H
BEGIN:VTIMEZONE
TZID:America/Regina
BEGIN:STANDARD
TZOFFSETFROM:-0600
TZOFFSETTO:-0600
TZNAME:CST
DTSTART:20220101T000000
END:STANDARD
END:VTIMEZONE
BEGIN:VEVENT
DTSTART;TZID=America/Regina:20221005T100000
DTEND;TZID=America/Regina:20221005T150000
DTSTAMP:20260422T181345
CREATED:20211110T203403Z
LAST-MODIFIED:20220727T142147Z
UID:7371-1664964000-1664982000@southey.osatoworks.com
SUMMARY:Public Health
DESCRIPTION:
URL:https://southey.osatoworks.com/event/public-health-45/
LOCATION:Southey Health Centre\, 290 Keats Street\, Southey\, Saskatchewan\, S0G 4P0\, Canada
CATEGORIES:Health Services,Rec Board Events/Community Calendar
END:VEVENT
BEGIN:VEVENT
DTSTART;TZID=America/Regina:20221005T200000
DTEND;TZID=America/Regina:20221005T200000
DTSTAMP:20260422T181345
CREATED:20220124T152119Z
LAST-MODIFIED:20220124T152119Z
UID:7815-1665000000-1665000000@southey.osatoworks.com
SUMMARY:AA Meeting
DESCRIPTION:
URL:https://southey.osatoworks.com/event/aa-meeting-84/
LOCATION:United Church
CATEGORIES:Health Services,Rec Board Events/Community Calendar
END:VEVENT
BEGIN:VEVENT
DTSTART;TZID=America/Regina:20221012T200000
DTEND;TZID=America/Regina:20221012T200000
DTSTAMP:20260422T181345
CREATED:20220124T152147Z
LAST-MODIFIED:20220124T152147Z
UID:7817-1665604800-1665604800@southey.osatoworks.com
SUMMARY:AA Meeting
DESCRIPTION:
URL:https://southey.osatoworks.com/event/aa-meeting-85/
LOCATION:United Church
CATEGORIES:Health Services,Rec Board Events/Community Calendar
END:VEVENT
BEGIN:VEVENT
DTSTART;TZID=America/Regina:20221019T100000
DTEND;TZID=America/Regina:20221019T150000
DTSTAMP:20260422T181346
CREATED:20220727T142933Z
LAST-MODIFIED:20220727T142933Z
UID:8611-1666173600-1666191600@southey.osatoworks.com
SUMMARY:Public Health
DESCRIPTION:
URL:https://southey.osatoworks.com/event/public-health-53/
LOCATION:Health Center
CATEGORIES:Health Services,Rec Board Events/Community Calendar
END:VEVENT
BEGIN:VEVENT
DTSTART;TZID=America/Regina:20221019T200000
DTEND;TZID=America/Regina:20221019T200000
DTSTAMP:20260422T181346
CREATED:20220124T152220Z
LAST-MODIFIED:20220124T152220Z
UID:7819-1666209600-1666209600@southey.osatoworks.com
SUMMARY:AA Meeting
DESCRIPTION:
URL:https://southey.osatoworks.com/event/aa-meeting-86/
LOCATION:United Church
CATEGORIES:Health Services,Rec Board Events/Community Calendar
END:VEVENT
BEGIN:VEVENT
DTSTART;TZID=America/Regina:20221020T100000
DTEND;TZID=America/Regina:20221020T150000
DTSTAMP:20260422T181346
CREATED:20211110T203530Z
LAST-MODIFIED:20211110T203530Z
UID:7373-1666260000-1666278000@southey.osatoworks.com
SUMMARY:Public Health
DESCRIPTION:
URL:https://southey.osatoworks.com/event/public-health-46/
LOCATION:Southey Health Centre\, 290 Keats Street\, Southey\, Saskatchewan\, S0G 4P0\, Canada
CATEGORIES:Health Services,Rec Board Events/Community Calendar
END:VEVENT
BEGIN:VEVENT
DTSTART;TZID=America/Regina:20221026T200000
DTEND;TZID=America/Regina:20221026T200000
DTSTAMP:20260422T181346
CREATED:20220124T152250Z
LAST-MODIFIED:20220124T152250Z
UID:7821-1666814400-1666814400@southey.osatoworks.com
SUMMARY:AA Meeting
DESCRIPTION:
URL:https://southey.osatoworks.com/event/aa-meeting-87/
LOCATION:United Church
CATEGORIES:Health Services,Rec Board Events/Community Calendar
END:VEVENT
END:VCALENDAR