BEGIN:VCALENDAR
VERSION:2.0
PRODID:-//Town of Southey - ECPv6.1.3//NONSGML v1.0//EN
CALSCALE:GREGORIAN
METHOD:PUBLISH
X-WR-CALNAME:Town of Southey
X-ORIGINAL-URL:https://southey.osatoworks.com
X-WR-CALDESC:Events for Town of Southey
REFRESH-INTERVAL;VALUE=DURATION:PT1H
X-Robots-Tag:noindex
X-PUBLISHED-TTL:PT1H
BEGIN:VTIMEZONE
TZID:America/Regina
BEGIN:STANDARD
TZOFFSETFROM:-0600
TZOFFSETTO:-0600
TZNAME:CST
DTSTART:20220101T000000
END:STANDARD
END:VTIMEZONE
BEGIN:VEVENT
DTSTART;TZID=America/Regina:20221102T100000
DTEND;TZID=America/Regina:20221102T150000
DTSTAMP:20260422T130244
CREATED:20220727T143024Z
LAST-MODIFIED:20220727T143024Z
UID:8613-1667383200-1667401200@southey.osatoworks.com
SUMMARY:Public Health
DESCRIPTION:
URL:https://southey.osatoworks.com/event/public-health-54/
CATEGORIES:Health Services,Rec Board Events/Community Calendar
END:VEVENT
BEGIN:VEVENT
DTSTART;TZID=America/Regina:20221102T200000
DTEND;TZID=America/Regina:20221102T200000
DTSTAMP:20260422T130244
CREATED:20220124T152319Z
LAST-MODIFIED:20220124T152319Z
UID:7823-1667419200-1667419200@southey.osatoworks.com
SUMMARY:AA Meeting
DESCRIPTION:
URL:https://southey.osatoworks.com/event/aa-meeting-88/
LOCATION:United Church
CATEGORIES:Health Services,Rec Board Events/Community Calendar
END:VEVENT
BEGIN:VEVENT
DTSTART;TZID=America/Regina:20221103T100000
DTEND;TZID=America/Regina:20221103T150000
DTSTAMP:20260422T130244
CREATED:20211110T203617Z
LAST-MODIFIED:20211110T203617Z
UID:7375-1667469600-1667487600@southey.osatoworks.com
SUMMARY:Public Health
DESCRIPTION:
URL:https://southey.osatoworks.com/event/public-health-47/
LOCATION:Southey Health Centre\, 290 Keats Street\, Southey\, Saskatchewan\, S0G 4P0\, Canada
CATEGORIES:Health Services,Rec Board Events/Community Calendar
END:VEVENT
BEGIN:VEVENT
DTSTART;TZID=America/Regina:20221109T080000
DTEND;TZID=America/Regina:20221109T170000
DTSTAMP:20260422T130244
CREATED:20220804T160046Z
LAST-MODIFIED:20220804T160202Z
UID:8644-1667980800-1668013200@southey.osatoworks.com
SUMMARY:Foot Care Clinic
DESCRIPTION:Southey Foot Care Flyer
URL:https://southey.osatoworks.com/event/foot-care-clinic-6/
LOCATION:Health Center
CATEGORIES:Health Services,Rec Board Events/Community Calendar
END:VEVENT
BEGIN:VEVENT
DTSTART;TZID=America/Regina:20221109T200000
DTEND;TZID=America/Regina:20221109T200000
DTSTAMP:20260422T130244
CREATED:20220124T152408Z
LAST-MODIFIED:20220124T152408Z
UID:7825-1668024000-1668024000@southey.osatoworks.com
SUMMARY:AA Meeting
DESCRIPTION:
URL:https://southey.osatoworks.com/event/aa-meeting-89/
LOCATION:United Church
CATEGORIES:Health Services,Rec Board Events/Community Calendar
END:VEVENT
BEGIN:VEVENT
DTSTART;TZID=America/Regina:20221110T100000
DTEND;TZID=America/Regina:20221110T150000
DTSTAMP:20260422T130244
CREATED:20211110T203656Z
LAST-MODIFIED:20211110T203656Z
UID:7377-1668074400-1668092400@southey.osatoworks.com
SUMMARY:Public Health
DESCRIPTION:
URL:https://southey.osatoworks.com/event/public-health-48/
LOCATION:Southey Health Centre\, 290 Keats Street\, Southey\, Saskatchewan\, S0G 4P0\, Canada
CATEGORIES:Health Services,Rec Board Events/Community Calendar
END:VEVENT
BEGIN:VEVENT
DTSTART;TZID=America/Regina:20221116T200000
DTEND;TZID=America/Regina:20221116T200000
DTSTAMP:20260422T130244
CREATED:20220124T160410Z
LAST-MODIFIED:20220124T160410Z
UID:7827-1668628800-1668628800@southey.osatoworks.com
SUMMARY:AA Meeting
DESCRIPTION:
URL:https://southey.osatoworks.com/event/aa-meeting-90/
LOCATION:United Church
CATEGORIES:Health Services,Rec Board Events/Community Calendar
END:VEVENT
BEGIN:VEVENT
DTSTART;TZID=America/Regina:20221123T200000
DTEND;TZID=America/Regina:20221123T200000
DTSTAMP:20260422T130244
CREATED:20220124T160442Z
LAST-MODIFIED:20220124T160442Z
UID:7829-1669233600-1669233600@southey.osatoworks.com
SUMMARY:AA Meeting
DESCRIPTION:
URL:https://southey.osatoworks.com/event/aa-meeting-91/
LOCATION:United Church
CATEGORIES:Health Services,Rec Board Events/Community Calendar
END:VEVENT
BEGIN:VEVENT
DTSTART;TZID=America/Regina:20221130T200000
DTEND;TZID=America/Regina:20221130T200000
DTSTAMP:20260422T130244
CREATED:20220124T160548Z
LAST-MODIFIED:20220124T160548Z
UID:7833-1669838400-1669838400@southey.osatoworks.com
SUMMARY:AA Meeting
DESCRIPTION:
URL:https://southey.osatoworks.com/event/aa-meeting-93/
LOCATION:United Church
CATEGORIES:Health Services,Rec Board Events/Community Calendar
END:VEVENT
END:VCALENDAR