BEGIN:VCALENDAR
VERSION:2.0
PRODID:-//Town of Southey - ECPv6.1.3//NONSGML v1.0//EN
CALSCALE:GREGORIAN
METHOD:PUBLISH
X-WR-CALNAME:Town of Southey
X-ORIGINAL-URL:https://southey.osatoworks.com
X-WR-CALDESC:Events for Town of Southey
REFRESH-INTERVAL;VALUE=DURATION:PT1H
X-Robots-Tag:noindex
X-PUBLISHED-TTL:PT1H
BEGIN:VTIMEZONE
TZID:America/Regina
BEGIN:STANDARD
TZOFFSETFROM:-0600
TZOFFSETTO:-0600
TZNAME:CST
DTSTART:20140101T000000
END:STANDARD
END:VTIMEZONE
BEGIN:VEVENT
DTSTART;TZID=America/Regina:20140717T100000
DTEND;TZID=America/Regina:20140717T180000
DTSTAMP:20260423T051502
CREATED:20140703T201329Z
LAST-MODIFIED:20140703T201329Z
UID:690-1405591200-1405620000@southey.osatoworks.com
SUMMARY:Physiotherapy Clinic
DESCRIPTION:To book an appointment please call 306-531-3449 or to book online email pf-physio.genbook.com
URL:https://southey.osatoworks.com/event/physiotherapy-clinic-12/
CATEGORIES:Health Services
END:VEVENT
END:VCALENDAR