BEGIN:VCALENDAR
VERSION:2.0
PRODID:-//Town of Southey - ECPv6.1.3//NONSGML v1.0//EN
CALSCALE:GREGORIAN
METHOD:PUBLISH
X-ORIGINAL-URL:https://southey.osatoworks.com
X-WR-CALDESC:Events for Town of Southey
REFRESH-INTERVAL;VALUE=DURATION:PT1H
X-Robots-Tag:noindex
X-PUBLISHED-TTL:PT1H
BEGIN:VTIMEZONE
TZID:America/Regina
BEGIN:STANDARD
TZOFFSETFROM:-0600
TZOFFSETTO:-0600
TZNAME:CST
DTSTART:20170101T000000
END:STANDARD
END:VTIMEZONE
BEGIN:VEVENT
DTSTART;TZID=America/Regina:20170526T073000
DTEND;TZID=America/Regina:20170526T100000
DTSTAMP:20260420T045756
CREATED:20170502T202830Z
LAST-MODIFIED:20170502T202830Z
UID:2513-1495783800-1495792800@southey.osatoworks.com
SUMMARY:Lab Services
DESCRIPTION:Lab Service will be available every Friday at the Health Action Centre.  Drop in only and requisition is required
URL:https://southey.osatoworks.com/event/lab-services-40/
CATEGORIES:Health Services,Rec Board Events/Community Calendar
END:VEVENT
BEGIN:VEVENT
DTSTART;TZID=America/Regina:20170526T090000
DTEND;TZID=America/Regina:20170526T150000
DTSTAMP:20260420T045756
CREATED:20170502T203743Z
LAST-MODIFIED:20170502T203743Z
UID:2525-1495789200-1495810800@southey.osatoworks.com
SUMMARY:Nurse Practitioner
DESCRIPTION:To book an appointment with Leland please call 1-855-766-6399
URL:https://southey.osatoworks.com/event/nurse-practitioner-192/
CATEGORIES:Health Services,Rec Board Events/Community Calendar
END:VEVENT
END:VCALENDAR